BEGIN:VCALENDAR
VERSION:2.0
PRODID:-//Župa Sljeme - ECPv6.15.20//NONSGML v1.0//EN
CALSCALE:GREGORIAN
METHOD:PUBLISH
X-ORIGINAL-URL:https://zupasljeme.hr
X-WR-CALDESC:Događaji za Župa Sljeme
REFRESH-INTERVAL;VALUE=DURATION:PT1H
X-Robots-Tag:noindex
X-PUBLISHED-TTL:PT1H
BEGIN:VTIMEZONE
TZID:Europe/Paris
BEGIN:DAYLIGHT
TZOFFSETFROM:+0100
TZOFFSETTO:+0200
TZNAME:CEST
DTSTART:20240331T010000
END:DAYLIGHT
BEGIN:STANDARD
TZOFFSETFROM:+0200
TZOFFSETTO:+0100
TZNAME:CET
DTSTART:20241027T010000
END:STANDARD
BEGIN:DAYLIGHT
TZOFFSETFROM:+0100
TZOFFSETTO:+0200
TZNAME:CEST
DTSTART:20250330T010000
END:DAYLIGHT
BEGIN:STANDARD
TZOFFSETFROM:+0200
TZOFFSETTO:+0100
TZNAME:CET
DTSTART:20251026T010000
END:STANDARD
BEGIN:DAYLIGHT
TZOFFSETFROM:+0100
TZOFFSETTO:+0200
TZNAME:CEST
DTSTART:20260329T010000
END:DAYLIGHT
BEGIN:STANDARD
TZOFFSETFROM:+0200
TZOFFSETTO:+0100
TZNAME:CET
DTSTART:20261025T010000
END:STANDARD
END:VTIMEZONE
BEGIN:VEVENT
DTSTART;TZID=Europe/Paris:20250621T120000
DTEND;TZID=Europe/Paris:20250621T150000
DTSTAMP:20260423T221137
CREATED:20250206T213351Z
LAST-MODIFIED:20250531T094409Z
UID:58151-1750507200-1750518000@zupasljeme.hr
SUMMARY:Misa i druženje za sve vjenčane u sljemenskoj kapelici
DESCRIPTION:Dragi naši supružnici\, \n\n\n\ns velikom radošću pozivamo sve bračne parove koji su se vjenčali u kapelici Majke Božje Sljemenske\, Kraljice Hrvata na poseban susret zahvalnosti i zajedništva. \n\n\n\nU subotu\, 21. lipnja 2025.\, okupljamo se u 12:00 sati ispred kapelice\, a potom ćemo zajedno slaviti svetu misu u 12:30 sati.Misa će biti slavljena na nakanu za sve pokojne\, žive i buduće bračne parove koji su se vjenčali u Sljemenskoj kapelici. \n\n\n\nU sklopu mise bit će svečana obnova bračnih zavjeta\, gdje ćete pred Gospodinom i jedni pred drugima ponovno potvrditi ono „da“ koje ste izrekli upravo na ovome mjestu. \n\n\n\nNakon mise slijedi druženje ispred župne kuće\, uz topli obrok\, kolače i glazbu – vrijeme za susrete\, razgovore i slavlje bračne ljubavi. \n\n\n\n\n\n\n\n\n\n\n\nRučak će biti dostupan po prigodnoj cijeni za sve koji žele sudjelovati.U slučaju lošeg vremena druženje će biti u prostoru župne kuće. \n\n\n\nRadi lakše organizacije molimo vas da ispunite prijavnicu na poveznici u nastavku najkasnije do 15. lipnja.Ako ste u mogućnosti\, rado ćemo prihvatiti kolače za zajednički stol. \n\n\n\nVeselimo se susretu s vama!Dobro došli doma – tamo gdje je vaš brak započeo. ❤️ \n\n\n\n\nPRIJAVA
URL:https://zupasljeme.hr/dogadanja/misa-za-vjencane-u-kapelici/
ATTACH;FMTTYPE=image/jpeg:https://zupasljeme.hr/wp-content/uploads/2025/02/vjenacni-u-kapelici.jpg
END:VEVENT
END:VCALENDAR