BEGIN:VCALENDAR
VERSION:2.0
PRODID:-//Župa Sljeme - ECPv6.15.20//NONSGML v1.0//EN
CALSCALE:GREGORIAN
METHOD:PUBLISH
X-WR-CALNAME:Župa Sljeme
X-ORIGINAL-URL:https://zupasljeme.hr
X-WR-CALDESC:Događaji za Župa Sljeme
REFRESH-INTERVAL;VALUE=DURATION:PT1H
X-Robots-Tag:noindex
X-PUBLISHED-TTL:PT1H
BEGIN:VTIMEZONE
TZID:Europe/Paris
BEGIN:DAYLIGHT
TZOFFSETFROM:+0100
TZOFFSETTO:+0200
TZNAME:CEST
DTSTART:20240331T010000
END:DAYLIGHT
BEGIN:STANDARD
TZOFFSETFROM:+0200
TZOFFSETTO:+0100
TZNAME:CET
DTSTART:20241027T010000
END:STANDARD
BEGIN:DAYLIGHT
TZOFFSETFROM:+0100
TZOFFSETTO:+0200
TZNAME:CEST
DTSTART:20250330T010000
END:DAYLIGHT
BEGIN:STANDARD
TZOFFSETFROM:+0200
TZOFFSETTO:+0100
TZNAME:CET
DTSTART:20251026T010000
END:STANDARD
BEGIN:DAYLIGHT
TZOFFSETFROM:+0100
TZOFFSETTO:+0200
TZNAME:CEST
DTSTART:20260329T010000
END:DAYLIGHT
BEGIN:STANDARD
TZOFFSETFROM:+0200
TZOFFSETTO:+0100
TZNAME:CET
DTSTART:20261025T010000
END:STANDARD
END:VTIMEZONE
BEGIN:VEVENT
DTSTART;TZID=Europe/Paris:20250815T000000
DTEND;TZID=Europe/Paris:20250815T235959
DTSTAMP:20260423T191645
CREATED:20250725T173423Z
LAST-MODIFIED:20250725T173424Z
UID:58534-1755216000-1755302399@zupasljeme.hr
SUMMARY:Velika Gospa
DESCRIPTION:Pozivamo sve hodočasnike\, štovatelje Blažene Djevice Marije i vjernike iz cijele domovine da blagdan Uznesenja Marijina – Veliku Gospu proslave u molitvi i zajedništvu na Sljemenu. \n\n\n\n📅 Petak\, 15. kolovoza 2025.🕙 Svete mise:• u 10:00 sati• u 12:00 sati• u 15:00 sati \n\n\n\n✝️ Ispovijed će biti moguća za vrijeme svih misa. \n\n\n\n🍽️ Nakon svetih misa vjernici će se moći okrijepiti ispred župne kuće\, gdje će biti ponuđena hrana i piće. \n\n\n\nDođimo zahvaliti našoj nebeskoj Majci i zajedno slaviti Mariju – Kraljicu Hrvata\, koja nas zagovara i prati kroz povijest i svakodnevicu.
URL:https://zupasljeme.hr/dogadanja/velika-gospa/
ATTACH;FMTTYPE=image/jpeg:https://zupasljeme.hr/wp-content/uploads/2025/07/20230726_134538-e1741767335800-edited.jpg
END:VEVENT
END:VCALENDAR