BEGIN:VCALENDAR
VERSION:2.0
PRODID:-//Župa Sljeme - ECPv6.15.20//NONSGML v1.0//EN
CALSCALE:GREGORIAN
METHOD:PUBLISH
X-ORIGINAL-URL:https://zupasljeme.hr
X-WR-CALDESC:Događaji za Župa Sljeme
REFRESH-INTERVAL;VALUE=DURATION:PT1H
X-Robots-Tag:noindex
X-PUBLISHED-TTL:PT1H
BEGIN:VTIMEZONE
TZID:Europe/Paris
BEGIN:DAYLIGHT
TZOFFSETFROM:+0100
TZOFFSETTO:+0200
TZNAME:CEST
DTSTART:20240331T010000
END:DAYLIGHT
BEGIN:STANDARD
TZOFFSETFROM:+0200
TZOFFSETTO:+0100
TZNAME:CET
DTSTART:20241027T010000
END:STANDARD
BEGIN:DAYLIGHT
TZOFFSETFROM:+0100
TZOFFSETTO:+0200
TZNAME:CEST
DTSTART:20250330T010000
END:DAYLIGHT
BEGIN:STANDARD
TZOFFSETFROM:+0200
TZOFFSETTO:+0100
TZNAME:CET
DTSTART:20251026T010000
END:STANDARD
BEGIN:DAYLIGHT
TZOFFSETFROM:+0100
TZOFFSETTO:+0200
TZNAME:CEST
DTSTART:20260329T010000
END:DAYLIGHT
BEGIN:STANDARD
TZOFFSETFROM:+0200
TZOFFSETTO:+0100
TZNAME:CET
DTSTART:20261025T010000
END:STANDARD
END:VTIMEZONE
BEGIN:VEVENT
DTSTART;TZID=Europe/Paris:20251129T160000
DTEND;TZID=Europe/Paris:20251129T163000
DTSTAMP:20260423T150741
CREATED:20251126T135331Z
LAST-MODIFIED:20251126T135730Z
UID:58643-1764432000-1764433800@zupasljeme.hr
SUMMARY:Pjevani Časoslov uoči Prve nedjelje Došašća
DESCRIPTION:Pozivamo vas na zajedničku molitvu pjevanog časoslova u subotu\, 29. studenoga u 16:00 sati\, uoči Prve nedjelje Došašća. Na početku liturgijske godine okupit ćemo se u kapelici Majke Božje Sljemenske\, Kraljice Hrvata\, kako bismo u molitvi\, pjesmi i sabranosti otvorili vrijeme iščekivanja Gospodinova dolaska. \n\n\n\nDošašće je vrijeme budnosti i nade – vrijeme u kojem Crkva poziva na pripravu srca i obnovu duhovnog života. Stoga vas pozivamo da zajedno započnemo ovo sveto vrijeme molitvom časoslova\, službenom molitvom Crkve koja nas uvodi u ritam liturgije i zajedništva. \n\n\n\nDobro došli!Neka nas Gospodin vodi kroz dane Došašća i daruje nam mir\, radost i nadu.
URL:https://zupasljeme.hr/dogadanja/pjevani-casoslov-uoci-prve-nedjelje-dosasca/
ATTACH;FMTTYPE=image/jpeg:https://zupasljeme.hr/wp-content/uploads/2025/01/20241130_160422-edited-scaled.jpg
END:VEVENT
END:VCALENDAR