BEGIN:VCALENDAR
VERSION:2.0
PRODID:-//Župa Sljeme - ECPv6.15.20//NONSGML v1.0//EN
CALSCALE:GREGORIAN
METHOD:PUBLISH
X-WR-CALNAME:Župa Sljeme
X-ORIGINAL-URL:https://zupasljeme.hr
X-WR-CALDESC:Događaji za Župa Sljeme
REFRESH-INTERVAL;VALUE=DURATION:PT1H
X-Robots-Tag:noindex
X-PUBLISHED-TTL:PT1H
BEGIN:VTIMEZONE
TZID:Europe/Paris
BEGIN:DAYLIGHT
TZOFFSETFROM:+0100
TZOFFSETTO:+0200
TZNAME:CEST
DTSTART:20250330T010000
END:DAYLIGHT
BEGIN:STANDARD
TZOFFSETFROM:+0200
TZOFFSETTO:+0100
TZNAME:CET
DTSTART:20251026T010000
END:STANDARD
BEGIN:DAYLIGHT
TZOFFSETFROM:+0100
TZOFFSETTO:+0200
TZNAME:CEST
DTSTART:20260329T010000
END:DAYLIGHT
BEGIN:STANDARD
TZOFFSETFROM:+0200
TZOFFSETTO:+0100
TZNAME:CET
DTSTART:20261025T010000
END:STANDARD
BEGIN:DAYLIGHT
TZOFFSETFROM:+0100
TZOFFSETTO:+0200
TZNAME:CEST
DTSTART:20270328T010000
END:DAYLIGHT
BEGIN:STANDARD
TZOFFSETFROM:+0200
TZOFFSETTO:+0100
TZNAME:CET
DTSTART:20271031T010000
END:STANDARD
END:VTIMEZONE
BEGIN:VEVENT
DTSTART;TZID=Europe/Paris:20260102T190000
DTEND;TZID=Europe/Paris:20260102T210000
DTSTAMP:20260423T101738
CREATED:20251126T152128Z
LAST-MODIFIED:20251126T152129Z
UID:58684-1767380400-1767387600@zupasljeme.hr
SUMMARY:Prvi petak – Euharistijsko klanjanje
DESCRIPTION:Pozivamo vas na euharistijsko klanjanje na prvi petak u mjesecu\, 2. siječnja\, od 19:00 do 21:00 sati. \n\n\n\nU božićnom i novogodišnjem vremenu\, kada slavimo dolazak Spasitelja i ulazak u novu godinu\, prvi petak nosi posebnu duhovnu simboliku. To je dan posvećen Presvetom Srcu Isusovu\, srcu koje je postalo čovjekom i otvorilo se za nas u betlehemskoj štalici. U tom svjetlu\, prvi petak postaje poziv da pred Isusovim Srcem zahvalimo za prošlu godinu\, za primljene milosti i za sve ono što je Gospodin učinio u našim životima. \n\n\n\nUlaskom u novu godinu\, donosimo Mu svoje nakane\, obitelji\, brige i radosti\, moleći da nas Njegova ljubav vodi i prati kroz dane koji su pred nama. \n\n\n\n„Dođite k meni svi…“ – Isusov je poziv traje i u ovoj noći klanjanja. \n\n\n\nDođite i provedite vrijeme pred Presvetim u molitvi\, zahvalnosti i predanju!
URL:https://zupasljeme.hr/dogadanja/prvi-petak-euharistijsko-klanjanje/
ATTACH;FMTTYPE=image/jpeg:https://zupasljeme.hr/wp-content/uploads/2025/11/klanjanje-2-scaled.jpg
END:VEVENT
BEGIN:VEVENT
DTSTART;TZID=Europe/Paris:20260103T000000
DTEND;TZID=Europe/Paris:20260103T235959
DTSTAMP:20260423T101738
CREATED:20251126T152406Z
LAST-MODIFIED:20251126T152407Z
UID:58688-1767398400-1767484799@zupasljeme.hr
SUMMARY:Prva subota
DESCRIPTION:Pozivamo vas da zajedno proslavimo prvu subotu u mjesecu\, dan posebno posvećen Marijinu Bezgrješnom Srcu. \n\n\n\nRaspored slavlja i molitve:\n\n\n\n\n12:00 – Sveta misa\n\n\n\n16:00 – Pjevani časoslov\n\n\n\n16:30 – Sveta misa i euharistijsko klanjanjeZa sve dobročinitelje i suradnike župe te za sve koji rade na Medvednici – čuvare\, ugostitelje\, radnike\, spasitelje\, planinare i sve koji skrbe za naše Sljeme.\n\n\n\n\nToga dana prigoda je zahvaliti i preporučiti u molitvu sve koji na bilo koji način pridonose životu župe i brizi za našu planinu. \n\n\n\nVođene ture kroz kapelicu\n\n\n\nOd 10:00 do 12:00 organizirane su vođene ture kroz kapelicu i njezinu povijest\, duhovnost i umjetnost. \n\n\n\n\n\n\n\nDobro došli!Neka nas Marijino Srce zagovara i vodi u novu godinu.
URL:https://zupasljeme.hr/dogadanja/prva-subota-2/
ATTACH;FMTTYPE=image/jpeg:https://zupasljeme.hr/wp-content/uploads/2024/04/20231207_141504-scaled.jpg
END:VEVENT
BEGIN:VEVENT
DTSTART;TZID=Europe/Paris:20260104T130000
DTEND;TZID=Europe/Paris:20260104T133000
DTSTAMP:20260423T101738
CREATED:20251126T152707Z
LAST-MODIFIED:20251126T152708Z
UID:58691-1767531600-1767533400@zupasljeme.hr
SUMMARY:Božićni koncert – KUD “Bistra”\, dječiji sastav
DESCRIPTION:Pozivamo vas na Božićni koncert dječijeg sastava KUD-a “Bistra”\, koji će se održati u nedjelju 4. siječnja u 13:00 sati u našoj kapelici. \n\n\n\nUz glazbu i pjesmu\, zajednički ćemo nastaviti slavlje Božića\, uroniti u radost Kristova rođenja i doživjeti posebnu dječju spontanost i vedrinu koja nas podsjeća na radost obitelji i zajednice. \n\n\n\nDobro došli!Radujemo se vašem dolasku!
URL:https://zupasljeme.hr/dogadanja/bozicni-koncert-kud-bistra-djeciji-sastav/
ATTACH;FMTTYPE=image/jpeg:https://zupasljeme.hr/wp-content/uploads/2024/10/20240526_130813.jpg
END:VEVENT
BEGIN:VEVENT
DTSTART;TZID=Europe/Paris:20260206T173000
DTEND;TZID=Europe/Paris:20260206T193000
DTSTAMP:20260423T101738
CREATED:20260206T081327Z
LAST-MODIFIED:20260206T081331Z
UID:58729-1770399000-1770406200@zupasljeme.hr
SUMMARY:Prvi petak
DESCRIPTION:Na prvi petak u mjesecu\, kada se posebno utječemo Presvetom Srcu Isusovu\, u sljemenskoj kapelici je euharistijsko klanjanje od 17:30 do 19:30.U tišini i sabranosti ovoga posebnog mjesta vjernici imaju priliku zastati pred Gospodinom te mu u molitvi povjeriti svoje brige\, zahvale i nakane. \n\n\n\nTo je vrijeme osobne molitve\, tišine i predanja\, usmjereno na obnovu povjerenja u Kristovu blizinu i milosrđe. \n\n\n\nSljemenska kapelica\, izdvojena od gradske vreve i okružena prirodom\, pruža prostor koji potiče sabranost i dublji duhovni susret.
URL:https://zupasljeme.hr/dogadanja/prvi-petak-3/
ATTACH;FMTTYPE=image/png:https://zupasljeme.hr/wp-content/uploads/2026/02/6.2.png
END:VEVENT
BEGIN:VEVENT
DTSTART;TZID=Europe/Paris:20260207T080000
DTEND;TZID=Europe/Paris:20260207T170000
DTSTAMP:20260423T101738
CREATED:20260206T082101Z
LAST-MODIFIED:20260206T082103Z
UID:58732-1770451200-1770483600@zupasljeme.hr
SUMMARY:Prva subota
DESCRIPTION:Na prvu subotu u mjesecu u ozračju tišine i prirode koje obilježava sljemensku kapelicu\, pozivamo na molitvu kroz slavljenje euharistije\, pjevanog časoslova i euharistijskog klanjanja. Također na prvu subotu svi posjetitelji imaju priliku u vođenim turama upoznati kapelicu Kraljice Hrvata. \n\n\n\nRaspored u subotu: \n\n\n\n\n10:00 – 12:00 vođene ture kapelicom\n\n\n\n12:30 redovita sveta misa\n\n\n\n16:00 pjevani časoslov\n\n\n\n16:30 sveta misa za župne suradnike\, dobročinitelje i sve koji rade na Medvednici\n\n\n\n17:00 euharistijsko klanjanje\n\n\n\n\nMajko Božja Sljemenska\, Kraljice Hrvata moli za nas!
URL:https://zupasljeme.hr/dogadanja/prva-subota-3/
ATTACH;FMTTYPE=image/png:https://zupasljeme.hr/wp-content/uploads/2026/02/7.2.1.png
END:VEVENT
BEGIN:VEVENT
DTSTART;TZID=Europe/Paris:20260301T093000
DTEND;TZID=Europe/Paris:20260301T143000
DTSTAMP:20260423T101738
CREATED:20260226T093051Z
LAST-MODIFIED:20260226T095231Z
UID:58750-1772357400-1772375400@zupasljeme.hr
SUMMARY:Križni put kroz korizmu
DESCRIPTION:I ove korizme vas pozivamo na zajedničku molitvu i pobožnost križnog puta u našoj sljemenskoj župi.  \n\n\n\nPola sata prije svake mise\, odnosno u 9:30\, 11:30 i 14:30 ispred župne kuće započinjemo molitvu prve postaje. Hodamo i molimo sve do kapelice gdje završavamo križni put i nastavljamo s euharistijom.
URL:https://zupasljeme.hr/dogadanja/krizni-put-kroz-korizmu/
ATTACH;FMTTYPE=image/jpeg:https://zupasljeme.hr/wp-content/uploads/2026/02/Dogadaji-WEB.jpg
END:VEVENT
BEGIN:VEVENT
DTSTART;TZID=Europe/Paris:20260301T100000
DTEND;TZID=Europe/Paris:20260301T150000
DTSTAMP:20260423T101738
CREATED:20260226T092133Z
LAST-MODIFIED:20260226T092328Z
UID:58744-1772359200-1772377200@zupasljeme.hr
SUMMARY:Prva nedjelja u mjesecu - blagoslov djece i trudnica
DESCRIPTION:Prve nedjelje u mjesecu\, u ozračju prirode i mira sljemenske kapelice\, pozivamo na molitvu kroz slavljenje euharistije i na poseban blagoslov koji se tradicionalno udjeljuje djeci i trudnicama svake prve nedjelje u mjesecu. \n\n\n\nRaspored svetih misa: \n\n\n\n\n10:00 – Redovita sveta misa\, blagoslov djece i trudnica nakon mise\n\n\n\n12:00 – Redovita sveta misa\, blagoslov djece i trudnica nakon mise\n\n\n\n15:00 – Redovita sveta misa\, blagoslov djece i trudnica nakon mise\n\n\n\n\nMajko Božja Sljem
URL:https://zupasljeme.hr/dogadanja/prva-nedjelja-u-mjesecu-blagoslov-djece-i-trudnica/
ATTACH;FMTTYPE=image/jpeg:https://zupasljeme.hr/wp-content/uploads/2026/02/Prva-nedjelja-blagoslov.jpg
END:VEVENT
BEGIN:VEVENT
DTSTART;TZID=Europe/Paris:20260306T173000
DTEND;TZID=Europe/Paris:20260306T193000
DTSTAMP:20260423T101738
CREATED:20260226T093910Z
LAST-MODIFIED:20260226T093912Z
UID:58753-1772818200-1772825400@zupasljeme.hr
SUMMARY:Prvi petak\, euharistijsko klanjanje
DESCRIPTION:Na prvi petak u mjesecu\, kada se posebno utječemo Presvetom Srcu Isusovu\, pozivamo vas na  euharistijsko klanjanje od 17:30 do 19:30\, u sljemensku kapelicu. U tišini i sabranosti ovoga posebnog mjesta zastani pred Gospodinom te mu u molitvi povjeri svoje brige\, zahvale i nakane. \n\n\n\nTo je vrijeme osobne molitve\, tišine i predanja\, usmjereno na obnovu povjerenja u Kristovu blizinu i milosrđe. Sljemenska kapelica\, izdvojena od gradske vreve i okružena prirodom\, pruža prostor koji potiče sabranost i dublji duhovni susret.
URL:https://zupasljeme.hr/dogadanja/prvi-petak-euharistijsko-klanjanje-2/
ATTACH;FMTTYPE=image/jpeg:https://zupasljeme.hr/wp-content/uploads/2026/02/Prvi-petak-u-mjesecu.jpg
END:VEVENT
BEGIN:VEVENT
DTSTART;TZID=Europe/Paris:20260307T100000
DTEND;TZID=Europe/Paris:20260307T180000
DTSTAMP:20260423T101738
CREATED:20260226T094740Z
LAST-MODIFIED:20260226T094741Z
UID:58756-1772877600-1772906400@zupasljeme.hr
SUMMARY:Prva subota kod Majke Božje Sljemenske
DESCRIPTION:Prve subote u mjesecu u katoličkoj su tradiciji osobito posvećene Bezgrješnom Srcu Marijinu\, a mi vas pozivamo u Kapelicu Majke Božje Sljemenske\, Kraljice Hrvata\, na molitvu kroz slavljenje euharistije\, pjevani časoslovi i euharistijskoi klanjanje. Također na prvu subotu svi posjetitelji imaju priliku u vođenim turama čuti detalje iz bogate prošlosti i upoznati kapelicu Kraljice Hrvata. \n\n\n\nRaspored u subotu: \n\n\n\n\n10:00 – 12:00 – Vođene ture kapelicom\n\n\n\n12:30 – Redovita sveta misa\n\n\n\n16:00 – Pjevani časoslov\n\n\n\n16:30 – Krunica i ispovijed\n\n\n\n17:00 – Sveta misa za župne suradnike\, dobročinitelje i sve koji rade na Medvednici\n\n\n\n17:30 – Euharistijsko klanjanje\n\n\n\n\nMajko Božja Sljemenska\, Kraljice Hrvata moli za nas!
URL:https://zupasljeme.hr/dogadanja/prva-subota-kod-majke-bozje-sljemenske/
ATTACH;FMTTYPE=image/jpeg:https://zupasljeme.hr/wp-content/uploads/2026/02/Prva-subota.jpg
END:VEVENT
BEGIN:VEVENT
DTSTART;TZID=Europe/Paris:20260308T093000
DTEND;TZID=Europe/Paris:20260308T143000
DTSTAMP:20260423T101738
CREATED:20260226T095225Z
LAST-MODIFIED:20260226T095227Z
UID:58759-1772962200-1772980200@zupasljeme.hr
SUMMARY:Križni put kroz korizmu
DESCRIPTION:I ove korizme vas pozivamo na zajedničku molitvu i pobožnost križnog puta u našoj sljemenskoj župi.  \n\n\n\nPola sata prije svake mise\, odnosno u 9:30\, 11:30 i 14:30 ispred župne kuće započinjemo molitvu prve postaje. Hodamo i molimo sve do kapelice gdje završavamo križni put i nastavljamo s euharistijom.
URL:https://zupasljeme.hr/dogadanja/krizni-put-kroz-korizmu-2/
ATTACH;FMTTYPE=image/jpeg:https://zupasljeme.hr/wp-content/uploads/2026/02/Dogadaji-WEB.jpg
END:VEVENT
BEGIN:VEVENT
DTSTART;TZID=Europe/Paris:20260315T093000
DTEND;TZID=Europe/Paris:20260315T143000
DTSTAMP:20260423T101738
CREATED:20260311T113627Z
LAST-MODIFIED:20260311T113759Z
UID:58767-1773567000-1773585000@zupasljeme.hr
SUMMARY:Križni put kroz korizmu
DESCRIPTION:I ove korizme vas pozivamo na zajedničku molitvu i pobožnost križnog puta u našoj sljemenskoj župi. \n\n\n\nPola sata prije svake mise\, odnosno u 9:30\, 11:30 i 14:30 ispred župne kuće započinjemo molitvu prve postaje. Hodamo i molimo sve do kapelice gdje završavamo križni put i nastavljamo s euharistijom.
URL:https://zupasljeme.hr/dogadanja/krizni-put-kroz-korizmu-3/
ATTACH;FMTTYPE=image/png:https://zupasljeme.hr/wp-content/uploads/2026/03/krizni-put.png
END:VEVENT
BEGIN:VEVENT
DTSTART;TZID=Europe/Paris:20260322T093000
DTEND;TZID=Europe/Paris:20260322T143000
DTSTAMP:20260423T101738
CREATED:20260311T114005Z
LAST-MODIFIED:20260311T114007Z
UID:58772-1774171800-1774189800@zupasljeme.hr
SUMMARY:Križni put kroz korizmu
DESCRIPTION:I ove korizme vas pozivamo na zajedničku molitvu i pobožnost križnog puta u našoj sljemenskoj župi. \n\n\n\nPola sata prije svake mise\, odnosno u 9:30\, 11:30 i 14:30 ispred župne kuće započinjemo molitvu prve postaje. Hodamo i molimo sve do kapelice gdje završavamo križni put i nastavljamo s euharistijom.
URL:https://zupasljeme.hr/dogadanja/krizni-put-kroz-korizmu-4/
ATTACH;FMTTYPE=image/png:https://zupasljeme.hr/wp-content/uploads/2026/03/krizni-put.png
END:VEVENT
BEGIN:VEVENT
DTSTART;TZID=Europe/Paris:20260327T200000
DTEND;TZID=Europe/Paris:20260327T204500
DTSTAMP:20260423T101738
CREATED:20260311T115407Z
LAST-MODIFIED:20260327T080703Z
UID:58774-1774641600-1774644300@zupasljeme.hr
SUMMARY:Noćni križni put - OTKAZANO
DESCRIPTION:U petak navečer\, uoči Velikog tjedna\, u našoj sljemenskoj župi molit ćemo pobožnost puta križa\, sa svijećama. Molimo zajedno kako bismo se na putovima svoga života sjedinili s Isusom koji Put\, Istina i Život. \n\n\n\nMolitva počinje u 20 sati\, okupljanje je ispred župne kuće\, kod prve postaje puta križa.
URL:https://zupasljeme.hr/dogadanja/nocni-krizni-put/
ATTACH;FMTTYPE=image/png:https://zupasljeme.hr/wp-content/uploads/2026/03/Dogadaji-WEB.png
END:VEVENT
BEGIN:VEVENT
DTSTART;TZID=Europe/Paris:20260329T100000
DTEND;TZID=Europe/Paris:20260329T150000
DTSTAMP:20260423T101738
CREATED:20260311T115948Z
LAST-MODIFIED:20260328T164822Z
UID:58777-1774778400-1774796400@zupasljeme.hr
SUMMARY:Nedjelja muke Gospodnje - CVJETNICA - OTKAZANO
DESCRIPTION:Cvjetnica je proslava Isusova ulaska u Jeruzalem i zadnja korizmena nedjelja.  \n\n\n\nU našoj sljemenskoj župi mise su u 10\, 12 i 15 sati. Prije svetih misa moći ćete uzeti i maslinove grančice za blagoslov.  \n\n\n\nSvečana procesija s maslinovim grančicama bit će u 12 sati\, neposredno prije mise.
URL:https://zupasljeme.hr/dogadanja/nedjelja-muke-gospodnje-cvjetnica/
ATTACH;FMTTYPE=image/png:https://zupasljeme.hr/wp-content/uploads/2026/03/Cvjetnica.png
END:VEVENT
BEGIN:VEVENT
DTSTART;TZID=Europe/Paris:20260401T200000
DTEND;TZID=Europe/Paris:20260401T213000
DTSTAMP:20260423T101738
CREATED:20260324T191858Z
LAST-MODIFIED:20260324T194358Z
UID:58784-1775073600-1775079000@zupasljeme.hr
SUMMARY:Obredi Velike srijede
DESCRIPTION:Obredi Velike srijede u našoj Kapelici Majke Božje Sljemenske počinju u 20 sati.  \n\n\n\nDođite\, pripremimo se zajedno za Vazmeno trodnevlje.
URL:https://zupasljeme.hr/dogadanja/obredi-velike-srijede/
ATTACH;FMTTYPE=image/png:https://zupasljeme.hr/wp-content/uploads/2026/03/Dogadaji-WEB-1.png
END:VEVENT
BEGIN:VEVENT
DTSTART;TZID=Europe/Paris:20260402T200000
DTEND;TZID=Europe/Paris:20260402T213000
DTSTAMP:20260423T101738
CREATED:20260324T192516Z
LAST-MODIFIED:20260324T192517Z
UID:58787-1775160000-1775165400@zupasljeme.hr
SUMMARY:Misa večere Gospodnje
DESCRIPTION:Na Veliki četvrtak proslavimo zajedno Misu večere Gospodnje.  \n\n\n\nSlavlje se sastoji od uvodnog obreda\, službe riječi\, obreda pranja nogu\, euharistijske službe i prijenosa Svetotajstva.  \n\n\n\nBudni budimo\, da ne padnemo u napast.
URL:https://zupasljeme.hr/dogadanja/misa-vecere-gospodnje/
ATTACH;FMTTYPE=image/png:https://zupasljeme.hr/wp-content/uploads/2026/03/9.png
END:VEVENT
BEGIN:VEVENT
DTSTART;TZID=Europe/Paris:20260403T200000
DTEND;TZID=Europe/Paris:20260403T213000
DTSTAMP:20260423T101738
CREATED:20260324T193002Z
LAST-MODIFIED:20260324T193003Z
UID:58790-1775246400-1775251800@zupasljeme.hr
SUMMARY:Obredi Velikog petka
DESCRIPTION:Veliki petak je dan kad se sjećamo Isusove gorke muke i smrti na križu.  \n\n\n\nDan je to kad nema euharistihskog slavlja\, ne zvone zvona\, oltar je ogoljen. Obredi uključuju liturgiju riječi\, klanjanje križu i svetu pričest. \n\n\n\nU našoj Kapelici Majke Božje Sljemenske obredi Velikog petka počinju u 20 sati.
URL:https://zupasljeme.hr/dogadanja/obredi-velikog-petka/
ATTACH;FMTTYPE=image/png:https://zupasljeme.hr/wp-content/uploads/2026/03/10.png
END:VEVENT
BEGIN:VEVENT
DTSTART;TZID=Europe/Paris:20260404T200000
DTEND;TZID=Europe/Paris:20260404T213000
DTSTAMP:20260423T101738
CREATED:20260324T194043Z
LAST-MODIFIED:20260324T194045Z
UID:58793-1775332800-1775338200@zupasljeme.hr
SUMMARY:Vazmeno bdijenje
DESCRIPTION:Velika subota dan je posvećen molitvi i tišini\, a navečer se slavi vazmeno bdijenje. \n\n\n\nU našoj Kapelici bdijenje počinje u 20 sati.
URL:https://zupasljeme.hr/dogadanja/vazmeno-bdijenje-2/
ATTACH;FMTTYPE=image/png:https://zupasljeme.hr/wp-content/uploads/2026/03/11.png
END:VEVENT
BEGIN:VEVENT
DTSTART;TZID=Europe/Paris:20260501T000000
DTEND;TZID=Europe/Paris:20260501T235959
DTSTAMP:20260423T101738
CREATED:20260414T163712Z
LAST-MODIFIED:20260414T163742Z
UID:58825-1777593600-1777679999@zupasljeme.hr
SUMMARY:Prvi petak na Sljemenu
DESCRIPTION:U tišini kapelice\, na početku novog mjeseca\, Gospodin nas ponovno poziva na susret. \n\n\n\nSveta misa u 12:00 satiEuharistijsko klanjanje od 17:30 do 19:30 sati \n\n\n\nPrvi petak je posebna prilika da zastanemo u užurbanosti dana\, odložimo brige i jednostavno budemo pred Njim – u zahvalnosti\, u molitvi\, u predanju. \n\n\n\nDođi barem na trenutak.Ostani koliko možeš.On te čeka.
URL:https://zupasljeme.hr/dogadanja/prvi-petak-na-sljemenu/
ATTACH;FMTTYPE=image/jpeg:https://zupasljeme.hr/wp-content/uploads/2025/11/klanjanje-2-scaled.jpg
END:VEVENT
BEGIN:VEVENT
DTSTART;TZID=Europe/Paris:20260502T000000
DTEND;TZID=Europe/Paris:20260502T235959
DTSTAMP:20260423T101738
CREATED:20260414T164041Z
LAST-MODIFIED:20260414T164144Z
UID:58827-1777680000-1777766399@zupasljeme.hr
SUMMARY:Prva subota - na Sljemenu s Marijom
DESCRIPTION:Ulazimo u svibanj – mjesec posvećen Djevici Mariji – u čijoj blizini učimo tišinu\, vjernost i predanje. \n\n\n\nNa prvu subotu\, posebno joj se utječemo i zajedno okupljamo u kapelici\, kroz molitvu\, pjesmu i zajedništvo: \n\n\n\n10:00 – 12:00 Vođene ture kapelicom12:30 Sveta misa16:00 Pjevani časoslov16:30 Krunica i prigoda za ispovijed17:00 Sveta misa za sve župne suradnike\, dobročinitelje i sve koji rade na Medvednici17:30 – 18:00 Euharistijsko klanjanje \n\n\n\nU Marijinom mjesecu pozvani smo učiti od nje kako slušati Boga i nositi ga u svakodnevici. \n\n\n\nDođi.Zastani.Povjeri joj svoje nakane.
URL:https://zupasljeme.hr/dogadanja/prva-subota-na-sljemenu-s-marijom/
ATTACH;FMTTYPE=image/jpeg:https://zupasljeme.hr/wp-content/uploads/2025/07/20230726_134538-e1741767335800-edited.jpg
END:VEVENT
BEGIN:VEVENT
DTSTART;TZID=Europe/Paris:20260503T000000
DTEND;TZID=Europe/Paris:20260503T235959
DTSTAMP:20260423T101738
CREATED:20260414T164527Z
LAST-MODIFIED:20260414T164528Z
UID:58829-1777766400-1777852799@zupasljeme.hr
SUMMARY:Prva nedjelja - blagoslov djece i trudnica
DESCRIPTION:U ozračju Marijina mjeseca\, na prvu nedjelju posebno se radujemo daru života i povjeravamo ga Božjoj ljubavi. \n\n\n\nSvete mise su u 10:00\, 12:00 i 15:00 sati\, a za vrijeme svake mise bit će prigoda za ispovijed. \n\n\n\nNakon svake svete mise slijedi blagoslov djece i trudnica. \n\n\n\nOkupljeni pod majčinskom zaštitom Djevice Marije\, zahvaljujemo za dar života i molimo za njegovo čuvanje\, rast i radost. \n\n\n\nPozivamo sve obitelji\, djecu i buduće majke da dođu i prime blagoslov. \n\n\n\nNeka Gospodin prati svaki novi početak\, a Marija nježno zagovara sve naše obitelji.
URL:https://zupasljeme.hr/dogadanja/prva-nedjelja-blagoslov-djece-i-trudnica/
ATTACH;FMTTYPE=image/jpeg:https://zupasljeme.hr/wp-content/uploads/2025/02/vjenacni-u-kapelici.jpg
END:VEVENT
END:VCALENDAR