BEGIN:VCALENDAR
VERSION:2.0
PRODID:-//Župa Sljeme - ECPv6.15.20//NONSGML v1.0//EN
CALSCALE:GREGORIAN
METHOD:PUBLISH
X-ORIGINAL-URL:https://zupasljeme.hr
X-WR-CALDESC:Događaji za Župa Sljeme
REFRESH-INTERVAL;VALUE=DURATION:PT1H
X-Robots-Tag:noindex
X-PUBLISHED-TTL:PT1H
BEGIN:VTIMEZONE
TZID:Europe/Paris
BEGIN:DAYLIGHT
TZOFFSETFROM:+0100
TZOFFSETTO:+0200
TZNAME:CEST
DTSTART:20230326T010000
END:DAYLIGHT
BEGIN:STANDARD
TZOFFSETFROM:+0200
TZOFFSETTO:+0100
TZNAME:CET
DTSTART:20231029T010000
END:STANDARD
BEGIN:DAYLIGHT
TZOFFSETFROM:+0100
TZOFFSETTO:+0200
TZNAME:CEST
DTSTART:20240331T010000
END:DAYLIGHT
BEGIN:STANDARD
TZOFFSETFROM:+0200
TZOFFSETTO:+0100
TZNAME:CET
DTSTART:20241027T010000
END:STANDARD
BEGIN:DAYLIGHT
TZOFFSETFROM:+0100
TZOFFSETTO:+0200
TZNAME:CEST
DTSTART:20250330T010000
END:DAYLIGHT
BEGIN:STANDARD
TZOFFSETFROM:+0200
TZOFFSETTO:+0100
TZNAME:CET
DTSTART:20251026T010000
END:STANDARD
BEGIN:DAYLIGHT
TZOFFSETFROM:+0100
TZOFFSETTO:+0200
TZNAME:CEST
DTSTART:20260329T010000
END:DAYLIGHT
BEGIN:STANDARD
TZOFFSETFROM:+0200
TZOFFSETTO:+0100
TZNAME:CET
DTSTART:20261025T010000
END:STANDARD
END:VTIMEZONE
BEGIN:VEVENT
DTSTART;TZID=Europe/Paris:20250606T190000
DTEND;TZID=Europe/Paris:20250606T210000
DTSTAMP:20260423T103828
CREATED:20250503T205926Z
LAST-MODIFIED:20250530T191705Z
UID:58254-1749236400-1749243600@zupasljeme.hr
SUMMARY:Klanjanje na prvi petak u mjesecu – u tišini srca pred Gospodinom
DESCRIPTION:Pozivamo vas da nam se pridružite na euharistijskom klanjanju u kapelici Majke Božje Sljemenske\, Kraljice Hrvata\, svakog prvog petka u mjesecu od 19:00 do 21:00 sat. \n\n\n\nU ritmu užurbane svakodnevice\, ovaj trenutak tišine i sabranosti\, u srcu Parka prirode Medvednica\, pruža priliku da pred Presvetim predamo svoje brige\, zahvalnosti i molitve. \n\n\n\nPrvi petak posebno je posvećen Presvetom Srcu Isusovu\, koje nas neprestano poziva na obraćenje\, povjerenje i vjernost. Dođite i provedite vrijeme u osobnoj molitvi i klanjanju – u blizini Boga koji tiho dolazi\, ostaje i ljubi. \n\n\n\nKapelica će biti otvorena za sve koji žele stati\, zahvaliti\, predati i odmoriti svoju dušu u prisutnosti Gospodina. \n\n\n\nDobro došli!
URL:https://zupasljeme.hr/dogadanja/prvi-petak/
ATTACH;FMTTYPE=image/png:https://zupasljeme.hr/wp-content/uploads/2025/05/prvi-petak.png
END:VEVENT
BEGIN:VEVENT
DTSTART;TZID=Europe/Paris:20250524T093000
DTEND;TZID=Europe/Paris:20250524T140000
DTSTAMP:20260423T103828
CREATED:20250119T191758Z
LAST-MODIFIED:20250520T191456Z
UID:58111-1748079000-1748095200@zupasljeme.hr
SUMMARY:Gospa od puta - PROŠTENJE
DESCRIPTION:Pozivamo vas na proštenje Gospe od puta u svetištu Majke Božje Sljemenske\, Kraljice Hrvata! \n\n\n\nNa oltaru kapelice nalazi se reljef izrađen po uzoru na izvorno prikazanje Gospe od puta (Madonna della Strada) koje se nalazi u Rimu. Gospa od puta je zaštitnica Družbe Isusove koja od gradnje kapelice do danas brine o ovom svetištu i hodočasnicima. \n\n\n\nGospa od puta zaštitnica je putnika\, hodočasnika\, vozača\, pomoraca\, taksista\, ali i svih onih koji su na duhovnom putu prema Bogu. \n\n\n\n Središnja proslava – subota 24. 5.:– Svete mise u 10:00 i 12:00– Ispovijed za vrijeme svih misa \n\n\n\nDođite zahvaliti\, preporučiti se i slaviti Gospodina pod okriljem njegove Majke – Gospe od puta!
URL:https://zupasljeme.hr/dogadanja/gospa-od-puta/
ATTACH;FMTTYPE=image/png:https://zupasljeme.hr/wp-content/uploads/2025/02/Gospa-od-puta-2025-Facebook-Post.png
END:VEVENT
BEGIN:VEVENT
DTSTART;TZID=Europe/Paris:20250521T183000
DTEND;TZID=Europe/Paris:20250523T200000
DTSTAMP:20260423T103828
CREATED:20250206T211647Z
LAST-MODIFIED:20250506T205843Z
UID:58142-1747852200-1748030400@zupasljeme.hr
SUMMARY:GOSPA OD PUTA - trodnevnica
DESCRIPTION:Pozivamo vas na proštenje Gospe od puta u svetištu Majke Božje Sljemenske\, Kraljice Hrvata! \n\n\n\nNa oltaru kapelice nalazi se reljef izrađen po uzoru na izvorno prikazanje Gospe od puta (Madonna della Strada) koje se nalazi u Rimu. Gospa od puta je zaštitnica Družbe Isusove koja od gradnje kapelice do danas brine o ovom svetištu i hodočasnicima. \n\n\n\nGospa od puta zaštitnica je putnika\, hodočasnika\, vozača\, pomoraca\, taksista\, ali i svih onih koji su na duhovnom putu prema Bogu. \n\n\n\n Trodnevnica (21. – 23. 5.):– 18:30 – Krunica– 19:00 – Sveta misa– Nakon mise – Euharistijsko klanjanje \n\n\n\nDođite zahvaliti\, preporučiti se i slaviti Gospodina pod okriljem njegove Majke – Gospe od puta!
URL:https://zupasljeme.hr/dogadanja/gospa-od-puta-trodnevnica-1-3/
ATTACH;FMTTYPE=image/png:https://zupasljeme.hr/wp-content/uploads/2025/02/Gospa-od-puta-2025-Facebook-Post.png
END:VEVENT
BEGIN:VEVENT
DTSTART;TZID=Europe/Paris:20250518T130000
DTEND;TZID=Europe/Paris:20250518T133000
DTSTAMP:20260423T103828
CREATED:20250503T205714Z
LAST-MODIFIED:20250503T210658Z
UID:58251-1747573200-1747575000@zupasljeme.hr
SUMMARY:Predstava o sv. Ivanu Pavlu II.
DESCRIPTION:Predstava „K tebi ću trčati” – posveta sv. Ivanu Pavlu II. \n\n\n\nPovodom 31. obljetnice prvog posjeta sv. Ivana Pavla II. Hrvatskoj\, u nedjelju 18. svibnja 2025. u 13 sati\, u svetištu Majke Božje Sljemenske\, Kraljice Hrvata\, bit će uprizorena predstava „K tebi ću trčati”. \n\n\n\nPredstavu izvodi glumačka skupina „Putnici”\, a temeljena je na knjigama Stanislawa Dziwisza „Život s Papom” i Andreasa Englischa „Ivan Pavao II. – Tajna Karola Wojtyłe”. \n\n\n\n🎙 Izvode: Dora Sarta\, Vjeran Brlić\, Bruno Zebić i Goran Kovačević (voditelj). \n\n\n\nDođite se prisjetiti svetosti\, dubine i snage osobe koja je promijenila svijet – svetog Ivana Pavla II. \n\n\n\n„Crkva: dubina i vrh moje biti.Crkva: korijen koji puštam u prošlost i\, istodobno\, u budućnost…”— sv. Ivan Pavao II. \n\n\n\nDobro nam došli!
URL:https://zupasljeme.hr/dogadanja/predstava-o-sv-ivanu-pavlu-ii/
ATTACH;FMTTYPE=image/png:https://zupasljeme.hr/wp-content/uploads/2025/05/Screenshot-2025-05-03-at-23.06.34.png
END:VEVENT
BEGIN:VEVENT
DTSTART;TZID=Europe/Paris:20250419T200000
DTEND;TZID=Europe/Paris:20250419T210000
DTSTAMP:20260423T103828
CREATED:20250206T211012Z
LAST-MODIFIED:20250206T211218Z
UID:58139-1745092800-1745096400@zupasljeme.hr
SUMMARY:Vazmeno bdijenje
DESCRIPTION:Vazmeno bdijenje – prijelaz iz smrti u život.U sljemenskoj kapelici dočekat ćemo Uskrs\, najveći katolički blagdan pod zvjezdanim nebom u šumi Medvednice. \n\n\n\nUskoro više informacija
URL:https://zupasljeme.hr/dogadanja/vazmeno-bdijenje/
ATTACH;FMTTYPE=image/jpeg:https://zupasljeme.hr/wp-content/uploads/2024/10/vazmeno-bdijenje.jpeg
END:VEVENT
BEGIN:VEVENT
DTSTART;TZID=Europe/Paris:20250416T170000
DTEND;TZID=Europe/Paris:20250416T173000
DTSTAMP:20260423T103828
CREATED:20250413T203533Z
LAST-MODIFIED:20250414T074713Z
UID:58237-1744822800-1744824600@zupasljeme.hr
SUMMARY:Pjevani časoslov
DESCRIPTION:Pozivamo vas da se na Veliku srijedu\, u 17:00 sati\, pridružite pjevanju večernje molitve Crkve – časoslova u kapelici Majke Božje Sljemenske\, Kraljice Hrvata. \n\n\n\nUoči svetog trodnevlja\, na dan kada Crkva sabrano promišlja o Kristovoj predaji i ljubavi do kraja\, okupljamo se u molitvi psalama\, hvalospjeva i razmatranja. Pjevani časoslov pruža nam priliku da uđemo dublje u otajstva Velikog tjedna\, osluškujući Božju riječ u tišini Sljemena. \n\n\n\nDođite i zajedno s nama molitvom pripravite srce za najveće dane naše vjere. \n\n\n\nDobrodošli!
URL:https://zupasljeme.hr/dogadanja/pjevani-casoslov-9/
ATTACH;FMTTYPE=image/jpeg:https://zupasljeme.hr/wp-content/uploads/2024/12/20241130_160422-scaled.jpg
END:VEVENT
BEGIN:VEVENT
DTSTART;TZID=Europe/Paris:20250413T080000
DTEND;TZID=Europe/Paris:20250413T170000
DTSTAMP:20260423T103828
CREATED:20250206T210610Z
LAST-MODIFIED:20250206T210615Z
UID:58136-1744531200-1744563600@zupasljeme.hr
SUMMARY:Cvjetnica na Sljemenu
DESCRIPTION:Cvjetnica je proslava Isusova ulaska u Jeruzalem i zadnja korizmena nedjelja. Na Sljemenu ćemo ju obilježiti procesijom.Uskoro više detalja…
URL:https://zupasljeme.hr/dogadanja/cvjetnica-na-sljemenu/
ATTACH;FMTTYPE=image/jpeg:https://zupasljeme.hr/wp-content/uploads/2025/02/cvjetnica.jpg
END:VEVENT
BEGIN:VEVENT
DTSTART;TZID=Europe/Paris:20250405T170000
DTEND;TZID=Europe/Paris:20250405T183000
DTSTAMP:20260423T103828
CREATED:20250313T091052Z
LAST-MODIFIED:20250313T091053Z
UID:58209-1743872400-1743877800@zupasljeme.hr
SUMMARY:Prva subota – Pobožnost Bezgrješnom Srcu Marijinu
DESCRIPTION:Svake prve subote u mjesecu u kapelici Majke Božje Sljemenske\, Kraljice Hrvata odazivamo se pozivu Blažene Djevice Marije na pobožnost Njezinu Bezgrješnom Srcu. Ova pobožnost\, koju je Gospa objavila sestri Luciji\, Fatimskoj vidjelici\, poziva nas na molitvu\, zadovoljštinu i predanje Njezinoj majčinskoj ljubavi. \n\n\n\n🔹 17:00 – Pjevani časoslov🔹 17:30 – Sveta misa za sve dobročinitelje i suradnike župe🔹 Nakon mise – Klanjanje pred Presvetim \n\n\n\nOva pobožnost povezana je s Marijinim obećanjem duhovne zaštite i milosti svima koji s vjerom i ljubavlju sudjeluju u u ovoj pobožnosti. Pozivamo vas da zajedno častimo Marijino Bezgrješno Srce\, moleći za mir u srcima\, obiteljima i svijetu. \n\n\n\nDođite i pridružite se u molitvi! 🙏💙
URL:https://zupasljeme.hr/dogadanja/prva-subota-poboznost-bezgrjesnom-srcu-marijinu/
ATTACH;FMTTYPE=image/png:https://zupasljeme.hr/wp-content/uploads/2025/03/FB-POST-prva-subota.png
END:VEVENT
BEGIN:VEVENT
DTSTART;TZID=Europe/Paris:20250404T190000
DTEND;TZID=Europe/Paris:20250404T210000
DTSTAMP:20260423T103828
CREATED:20250312T080844Z
LAST-MODIFIED:20250312T081917Z
UID:58200-1743793200-1743800400@zupasljeme.hr
SUMMARY:Prvi petak – Pobožnost Presvetom Srcu Isusovu
DESCRIPTION:Svaki prvi petak u mjesecu u kapelici Majke Božje Sljemenske\, Kraljice Hrvata posebno častimo Presveto Srce Isusovo. Ova pobožnost duboko je ukorijenjena u katoličkoj tradiciji i poziva nas na duhovnu obnovu\, povjerenje i predanje Srcu našega Gospodina. \n\n\n\n🔹 Klanjanje pred Presvetim – od 19:00 do 21:00🔹 Mogućnost tihe molitve\, sabranosti i osobnog susreta s Isusom \n\n\n\nOva pobožnost temelji se na obećanjima koje je Isus dao svetoj Margareti Mariji Alacoque\, a koja poziva vjernike na devet prvih petaka u znak zadovoljštine Njegovom Srcu. \n\n\n\nPozivamo vas da se pridružite ovom molitvenom trenutku\, osjetite snagu Kristove ljubavi i povjerite Mu svoje potrebe\, radosti i kušnje. Dođite\, poklonimo se Gospodinu! 🙏
URL:https://zupasljeme.hr/dogadanja/prvi-petak-poboznost-presvetom-srcu-isusovu/
ATTACH;FMTTYPE=image/jpeg:https://zupasljeme.hr/wp-content/uploads/2025/03/20230726_134538-e1741767335800.jpg
END:VEVENT
BEGIN:VEVENT
DTSTART;TZID=Europe/Paris:20250309T093000
DTEND;TZID=Europe/Paris:20250309T150000
DTSTAMP:20260423T103828
CREATED:20250308T214506Z
LAST-MODIFIED:20250308T214508Z
UID:58186-1741512600-1741532400@zupasljeme.hr
SUMMARY:Križni put
DESCRIPTION:Dolazi nam I. korizmena nedjelja i s njom pobožnost križnog puta. Pola sata prije svake mise tj. u 9:30\, 11:30 i 14:30 ispred župne kuće započinjemo molitvu prve postaje sve do kapelice gdje završavamo križni put i nastavljamo sa euharistijom.
URL:https://zupasljeme.hr/dogadanja/krizni-put/
ATTACH;FMTTYPE=image/jpeg:https://zupasljeme.hr/wp-content/uploads/2025/03/20240219_065644.jpg
END:VEVENT
BEGIN:VEVENT
DTSTART;TZID=Europe/Paris:20250223T100000
DTEND;TZID=Europe/Paris:20250223T160000
DTSTAMP:20260423T103828
CREATED:20250211T082744Z
LAST-MODIFIED:20250217T171919Z
UID:58160-1740304800-1740326400@zupasljeme.hr
SUMMARY:Promocija Vodiča sljemenske kapelice i medaljice
DESCRIPTION:Sljemenska kapelica vrijedna je kulturna baština i zaštićeno kulturno dobro koje skriva mnoge zanimljive priče i činjenice iz hrvatske povijesti. Povodom 1100. obljetnice Hrvatskoga Kraljevstva organizira se predstavljanje Vodiča Sljemenske kapelice i medaljice Majke Božje Sljemenske\, Kraljice Hrvata. Predstavljanje će se održati u nedjelju 23. veljače 2025. nakon svih misa (10\, 12 i 15 sati) u kapelici Majke Božje Sljemenske\, Kraljice Hrvata na Sljemenu. \n\n\n\nSljemenska kapelica nije samo mjesto molitve\, već je građena i kao spomenik 1000. obljetnice Hrvatskoga Kraljevstva. Zbog svojih arhitektonskih i umjetničkih elementa predstavlja Hrvatsku u malom\, a ujedno je i zaštićeno kulturno dobro. Kako bi se očuvala njezina povijest\, župa je izdala pretisak izvornoga Vodiča iz 1943. godine te u suradnji s akademskim kiparom i medaljerom Damirom Mataušićem izradila medaljicu\, autorski rad prema motivu kapelice. \n\n\n\nNa predstavljanju nakon mi se u 12 sati će sudjelovati: \n\n\n\n\npater Sebastijan Šujević\, DI – provincijal Hrvatske pokrajine Družbe Isusove\n\n\n\nakademski kipar i medaljer Damir Mataušić\n\n\n\npater Tomislav Špiranec\, DI – župnik\n\n\n\n\n \n\n\n\n\n\n\n\n\n\n\n\n\nPosebna vrijednost ovoga događanja bit će prikaz digitalizirane originalne snimke posvete kapelice 16. srpnja 1933. godine\, koja nas vraća u vrijeme kada je kapelica postala simbol vjere i nacionalnoga identiteta.
URL:https://zupasljeme.hr/dogadanja/promocija-vodica-sljemenske-kapelice-i-medaljice/
ATTACH;FMTTYPE=image/png:https://zupasljeme.hr/wp-content/uploads/2025/02/Promocija-vodica-i-medaljice.png
END:VEVENT
BEGIN:VEVENT
DTSTART;TZID=Europe/Paris:20250111T160000
DTEND;TZID=Europe/Paris:20250111T163000
DTSTAMP:20260423T103828
CREATED:20250107T135838Z
LAST-MODIFIED:20250107T135946Z
UID:58104-1736611200-1736613000@zupasljeme.hr
SUMMARY:Pjevani časoslov
DESCRIPTION:U subotu 11. siječnja u kapelici Majke Božje Sljemenske\, Kraljice Hrvata molit će se pjevajući časoslov.
URL:https://zupasljeme.hr/dogadanja/pjevani-casoslov-8/
ATTACH;FMTTYPE=image/jpeg:https://zupasljeme.hr/wp-content/uploads/2025/01/20241130_160422-edited-scaled.jpg
END:VEVENT
BEGIN:VEVENT
DTSTART;TZID=Europe/Paris:20250105T160000
DTEND;TZID=Europe/Paris:20250105T170000
DTSTAMP:20260423T103828
CREATED:20241206T164902Z
LAST-MODIFIED:20241211T215837Z
UID:58040-1736092800-1736096400@zupasljeme.hr
SUMMARY:Pjevani časoslov
DESCRIPTION:U drugu nedjelju po Božiću pjevamo časoslov u Sljemenskoj kapelici\, slaveći Božić u zajedništvu i molitvi.
URL:https://zupasljeme.hr/dogadanja/pjevani-casoslov-5/
ATTACH;FMTTYPE=image/jpeg:https://zupasljeme.hr/wp-content/uploads/2024/12/20241130_161523-scaled.jpg
END:VEVENT
BEGIN:VEVENT
DTSTART;TZID=Europe/Paris:20250105T130000
DTEND;TZID=Europe/Paris:20250105T134500
DTSTAMP:20260423T103828
CREATED:20241102T161150Z
LAST-MODIFIED:20241206T094054Z
UID:57901-1736082000-1736084700@zupasljeme.hr
SUMMARY:Božićni koncert zbora Župe sv. Jurja
DESCRIPTION:Na drugu nedjelju po Božiću\, nakon mise u 12 sati\, zbor Župe sv. Jurja mučenika iz Gornje Stubice održat će koncert božićnih pjesama. \n\n\n\n\n\n\n\n\n(Fotografija preuzeta s https://zupa-svetogjurja.hr/)
URL:https://zupasljeme.hr/dogadanja/bozicni-koncert-zbora-zupe-sv-jurja-mucenika/
ATTACH;FMTTYPE=image/jpeg:https://zupasljeme.hr/wp-content/uploads/2024/11/zupa-sv-jutrja.jpg
END:VEVENT
BEGIN:VEVENT
DTSTART;TZID=Europe/Paris:20241229T130000
DTEND;TZID=Europe/Paris:20241229T134500
DTSTAMP:20260423T103828
CREATED:20241017T211642Z
LAST-MODIFIED:20241206T094648Z
UID:57854-1735477200-1735479900@zupasljeme.hr
SUMMARY:Božićni koncert KUD-a Bistra
DESCRIPTION:Na prvu nedjelju po Božiću\, nakon mise u 12 sati\, KUD Bistra iz Bistre održat će koncert božićnih pjesama.
URL:https://zupasljeme.hr/dogadanja/kud-bistra-bozicni-koncert/
ATTACH;FMTTYPE=image/jpeg:https://zupasljeme.hr/wp-content/uploads/2024/10/procesija-u-nosnjama.jpeg
END:VEVENT
BEGIN:VEVENT
DTSTART;TZID=Europe/Paris:20241228T160000
DTEND;TZID=Europe/Paris:20241228T170000
DTSTAMP:20260423T103828
CREATED:20241211T214730Z
LAST-MODIFIED:20241211T214730Z
UID:58070-1735401600-1735405200@zupasljeme.hr
SUMMARY:Pjevani časoslov
DESCRIPTION:U prvu subotu po Božiću pjevamo časoslov u Sljemenskoj kapelici\, slaveći Božić u zajedništvu i molitvi.
URL:https://zupasljeme.hr/dogadanja/pjevani-casoslov-4/
ATTACH;FMTTYPE=image/png:https://zupasljeme.hr/wp-content/uploads/2024/12/casoslov-2.png
END:VEVENT
BEGIN:VEVENT
DTSTART;TZID=Europe/Paris:20241224T000000
DTEND;TZID=Europe/Paris:20241224T010000
DTSTAMP:20260423T103828
CREATED:20241102T160651Z
LAST-MODIFIED:20241206T100310Z
UID:57898-1734998400-1735002000@zupasljeme.hr
SUMMARY:POLNOĆKA NA SLJEMENU i procesija do jaslica
DESCRIPTION:Cijelo Došašće pripremali smo se za ovu noć – rođenje našega Spasitelja!Dočekajmo taj događaj na vrhu Medvednice\, u kapelici Majke Božje Sljemenske\, Kraljice Hrvata. \n\n\n\nNakon svete mise bit će procesija od kapelice do “Šumarskih jaslica” da bi djetešce Isusa položili u jasle.
URL:https://zupasljeme.hr/dogadanja/polnocka-na-sljemenu-i-procesija-do-jaslica/
ATTACH;FMTTYPE=image/jpeg:https://zupasljeme.hr/wp-content/uploads/2024/11/polnocka.jpg
END:VEVENT
BEGIN:VEVENT
DTSTART;TZID=Europe/Paris:20241222T130000
DTEND;TZID=Europe/Paris:20241222T134500
DTSTAMP:20260423T103828
CREATED:20241102T155938Z
LAST-MODIFIED:20241206T100919Z
UID:57894-1734872400-1734875100@zupasljeme.hr
SUMMARY:Adventski koncert Mješovitog pjevačkog zbora Janjevo
DESCRIPTION:Advent na Sljemenu zatvorit će Mješoviti pjevački zbor Janjevo\, koji će na četvrtu nedjelju došašća\, nakon mise u 12 sati\, održati koncert adventskih pjesama. \n\n\n\n(Fotografija preuzeta s https://laudato.hr/Novosti/Zanimljivosti/Povijest-adventskog-vijenca.aspx)
URL:https://zupasljeme.hr/dogadanja/adventski-koncert-zbora-janjevaca/
ATTACH;FMTTYPE=image/jpeg:https://zupasljeme.hr/wp-content/uploads/2024/11/vijenac.jpg
END:VEVENT
BEGIN:VEVENT
DTSTART;TZID=Europe/Paris:20241221T160000
DTEND;TZID=Europe/Paris:20241221T170000
DTSTAMP:20260423T103828
CREATED:20241206T110938Z
LAST-MODIFIED:20241211T215622Z
UID:58030-1734796800-1734800400@zupasljeme.hr
SUMMARY:Pjevani časoslov
DESCRIPTION:U ovu subotu pjevamo časoslov u Sljemenskoj kapelici. U tišini Sljemena s molitvom i pjesmom ući ćemo u četvrtu nedjelju došašća – nedjelju ljubavi.
URL:https://zupasljeme.hr/dogadanja/pjevani-casoslov-3/
ATTACH;FMTTYPE=image/jpeg:https://zupasljeme.hr/wp-content/uploads/2024/12/20241130_160422-scaled.jpg
END:VEVENT
BEGIN:VEVENT
DTSTART;TZID=Europe/Paris:20241221T100000
DTEND;TZID=Europe/Paris:20241221T123000
DTSTAMP:20260423T103828
CREATED:20241206T163847Z
LAST-MODIFIED:20241211T215122Z
UID:58037-1734775200-1734784200@zupasljeme.hr
SUMMARY:Vođena tura po Sljemenskoj kapelici
DESCRIPTION:Vođene ture po kapelici održat će se u subotu\, 21. 12.\, od 10:00 do 12:30. Ovaj biser arhitekture\, povijesti i vjere krasi vrh Sljemena od 1932. godine\, kada je isusovcima povjerena zadaća podizanja crkve povodom tisućljetnog jubileja hrvatskog kraljevstva i u spomen na 13 stoljeća od pokrštenja Hrvata. Tko su bili ključni ljudi u izgradnji naše voljene župne crkve i koji dragocjeni detalji krase njezine zidove\, saznajte od naših volontera.
URL:https://zupasljeme.hr/dogadanja/vodena-tura-po-sljemenskoj-kapelici-2/
ATTACH;FMTTYPE=image/jpeg:https://zupasljeme.hr/wp-content/uploads/2024/04/1_c_2_Kapelica_zvono-scaled.jpg
END:VEVENT
BEGIN:VEVENT
DTSTART;TZID=Europe/Paris:20241216T103000
DTEND;TZID=Europe/Paris:20241216T113000
DTSTAMP:20260423T103828
CREATED:20241207T090921Z
LAST-MODIFIED:20241216T213143Z
UID:58044-1734345000-1734348600@zupasljeme.hr
SUMMARY:Radionica izrade jaslica
DESCRIPTION:Pozivamo vas na kreativnu radionicu izrade jaslica za djecu predškolske dobi\, koja će se održati u župnoj kući na Sljemenu 21. prosinca od 10:30 do 11:30. Za sudjelovanje je potrebno prijaviti djecu (broj djece i dob) putem poveznice.  \n\n\n\nDođite i zajedno s nama izradite vlastite jaslice! \n\n\n\n(Fotografija preuzeta s https://es.pinterest.com/pin/316377942578968527/)
URL:https://zupasljeme.hr/dogadanja/radionica-izrade-jaslica/
ATTACH;FMTTYPE=image/jpeg:https://zupasljeme.hr/wp-content/uploads/2024/12/9ebe7991bb3fae03dcbb5592013b0d82.jpg
END:VEVENT
BEGIN:VEVENT
DTSTART;TZID=Europe/Paris:20241215T130000
DTEND;TZID=Europe/Paris:20241215T133000
DTSTAMP:20260423T103828
CREATED:20241017T211225Z
LAST-MODIFIED:20241209T132918Z
UID:57851-1734267600-1734269400@zupasljeme.hr
SUMMARY:Adventski koncert KUD-a Okićka Trešnja
DESCRIPTION:KUD Okićka Trešnja iz Okića održat će koncert adventskih pjesama 15. prosinca\, nakon svete mise u 12 sati.
URL:https://zupasljeme.hr/dogadanja/kud-okicka-tresnja-adventski-koncert/
ATTACH;FMTTYPE=image/jpeg:https://zupasljeme.hr/wp-content/uploads/2024/10/20240526_130813.jpg
END:VEVENT
BEGIN:VEVENT
DTSTART;TZID=Europe/Paris:20241214T160000
DTEND;TZID=Europe/Paris:20241214T170000
DTSTAMP:20260423T103828
CREATED:20241209T131334Z
LAST-MODIFIED:20241211T214903Z
UID:58054-1734192000-1734195600@zupasljeme.hr
SUMMARY:Pjevani časoslov
DESCRIPTION:U ovu subotu pjevamo časoslov u Sljemenskoj kapelici. U tišini Sljemena s molitvom i pjesmom ući ćemo u treću nedjelju došašća – nedjelju radosti.
URL:https://zupasljeme.hr/dogadanja/pjevani-casoslov-6/
ATTACH;FMTTYPE=image/png:https://zupasljeme.hr/wp-content/uploads/2024/12/Casoslov-3.png
END:VEVENT
BEGIN:VEVENT
DTSTART;TZID=Europe/Paris:20241214T100000
DTEND;TZID=Europe/Paris:20241214T123000
DTSTAMP:20260423T103828
CREATED:20241206T102304Z
LAST-MODIFIED:20241211T214059Z
UID:58016-1734170400-1734179400@zupasljeme.hr
SUMMARY:Vođena tura po Sljemenskoj kapelici
DESCRIPTION:Vođene ture po kapelici održat će se u subotu\, 14. 12.\, od 10:00 do 12:30. Ovaj biser arhitekture\, povijesti i vjere krasi vrh Sljemena od 1932. godine\, kada je isusovcima povjerena zadaća podizanja crkve povodom tisućljetnog jubileja hrvatskog kraljevstva i u spomen na 13 stoljeća od pokrštenja Hrvata. Tko su bili ključni ljudi u izgradnji naše voljene župne crkve i koji dragocjeni detalji krase njezine zidove\, saznajte od naših volontera.
URL:https://zupasljeme.hr/dogadanja/vodena-tura-po-sljemenskoj-kapelici/
ATTACH;FMTTYPE=image/jpeg:https://zupasljeme.hr/wp-content/uploads/2024/04/IMG_7962.jpg
END:VEVENT
BEGIN:VEVENT
DTSTART;TZID=Europe/Paris:20241208T120000
DTEND;TZID=Europe/Paris:20241208T130000
DTSTAMP:20260423T103828
CREATED:20241016T210927Z
LAST-MODIFIED:20241206T101547Z
UID:57847-1733659200-1733662800@zupasljeme.hr
SUMMARY:Otvaranje "Šumarskih jaslica"
DESCRIPTION:Na drugu nedjelju došašća otvaramo Šumarske jaslice koje ove godine slave 30 godina. \n\n\n\nSveta misa u 12 sati bit će pored jaslica (Stara Lugarnica)\, za vrijeme koje će biti i blagoslov jaslica. Svetu misu predvodit će p. Sebastijan Šujević\, provincijal Hrvatske pokrajine Družbe Isusove\, u koncelebraciji sa sljemenskim župnikom p. Tomislavom Špirancem. KUD Podgorac iz Gračana glazbeno će animirati misu u zajedništvu sa svim vjernicima.
URL:https://zupasljeme.hr/dogadanja/otvaranje-sumarskih-jaslica/
ATTACH;FMTTYPE=image/jpeg:https://zupasljeme.hr/wp-content/uploads/2024/10/jaslice.jpeg
END:VEVENT
BEGIN:VEVENT
DTSTART;TZID=Europe/Paris:20241207T160000
DTEND;TZID=Europe/Paris:20241207T170000
DTSTAMP:20260423T103828
CREATED:20241206T104953Z
LAST-MODIFIED:20241214T205102Z
UID:58026-1733587200-1733590800@zupasljeme.hr
SUMMARY:Pjevani časoslov
DESCRIPTION:U ovu subotu pjevamo časoslov u Sljemenskoj kapelici. U tišini Sljemena s molitvom i pjesmom ući ćemo u drugu nedjelju došašća – nedjelju mira.
URL:https://zupasljeme.hr/dogadanja/pjevani-casoslov/
ATTACH;FMTTYPE=image/jpeg:https://zupasljeme.hr/wp-content/uploads/2024/12/20241130_161523-scaled.jpg
END:VEVENT
BEGIN:VEVENT
DTSTART;TZID=Europe/Paris:20241207T100000
DTEND;TZID=Europe/Paris:20241207T123000
DTSTAMP:20260423T103828
CREATED:20241204T191208Z
LAST-MODIFIED:20241206T101856Z
UID:57994-1733565600-1733574600@zupasljeme.hr
SUMMARY:Vođena tura po Sljemenskoj kapelici
DESCRIPTION:Vođene ture po kapelici održat će se u subotu\, 7. 12.\, od 10:00 do 12:30. Ovaj biser arhitekture\, povijesti i vjere krasi vrh Sljemena od 1932. godine\, kada je isusovcima povjerena zadaća podizanja crkve povodom tisućljetnog jubileja hrvatskog kraljevstva i u spomen na 13 stoljeća od pokrštenja Hrvata. Tko su bili ključni ljudi u izgradnji naše voljene župne crkve i koji dragocjeni detalji krase njezine zidove\, saznajte od naših volontera.
URL:https://zupasljeme.hr/dogadanja/vodena-tura-po-kapelici/
ATTACH;FMTTYPE=image/png:https://zupasljeme.hr/wp-content/uploads/2024/03/Screenshot-2024-10-15-at-23.51.32.png
END:VEVENT
BEGIN:VEVENT
DTSTART;TZID=Europe/Paris:20241201T130000
DTEND;TZID=Europe/Paris:20241201T134500
DTSTAMP:20260423T103828
CREATED:20241102T155231Z
LAST-MODIFIED:20241206T104251Z
UID:57891-1733058000-1733060700@zupasljeme.hr
SUMMARY:Adventski koncert kvarteta Stubaki
DESCRIPTION:Na prvu nedjelju došašća kvartet Stubaki iz Stubičkih Toplica\, nakon mise u 12 sati\, održat će koncert adventskih pjesama. \n\n\n\n(Slika preuzeta s https://rhzk.hr/kvartet-stubaki-pjeva-o-nasem-zagorskom-raju/)
URL:https://zupasljeme.hr/dogadanja/adventski-koncert-kvarteta-stubaki/
ATTACH;FMTTYPE=image/jpeg:https://zupasljeme.hr/wp-content/uploads/2024/11/kvartet-stubaki-1024x746-1.jpg
END:VEVENT
BEGIN:VEVENT
DTSTART;TZID=Europe/Paris:20241130T160000
DTEND;TZID=Europe/Paris:20241130T170000
DTSTAMP:20260423T103828
CREATED:20241214T210725Z
LAST-MODIFIED:20241214T211739Z
UID:58083-1732982400-1732986000@zupasljeme.hr
SUMMARY:Pjevani časoslov
DESCRIPTION:U ovu subotu pjevamo prvi časoslov u došašću u sljemenskoj kapelici. U tišini Sljemena s molitvom i pjesmom ući ćemo u prvu nedjelju došašća – nedjelju nade. \n\n\n\n \n\n\n\n“K tebi\, Gospodine\, uzdižem dušu svoju” – započinje nedjeljni misni psalam. Pripremimo svoju dušu za uzlet ovom lijepom molitvom zahvaljivanja na blagoslovima dana koju ćemo pjevati zajedno s Marijom.
URL:https://zupasljeme.hr/dogadanja/pjevani-casoslov-7/
ATTACH;FMTTYPE=image/jpeg:https://zupasljeme.hr/wp-content/uploads/2024/12/468291510_879213131054166_4473929926652596923_n.jpg
END:VEVENT
END:VCALENDAR