BEGIN:VCALENDAR
VERSION:2.0
PRODID:-//Župa Sljeme - ECPv6.15.20//NONSGML v1.0//EN
CALSCALE:GREGORIAN
METHOD:PUBLISH
X-ORIGINAL-URL:https://zupasljeme.hr
X-WR-CALDESC:Događaji za Župa Sljeme
REFRESH-INTERVAL;VALUE=DURATION:PT1H
X-Robots-Tag:noindex
X-PUBLISHED-TTL:PT1H
BEGIN:VTIMEZONE
TZID:Europe/Paris
BEGIN:DAYLIGHT
TZOFFSETFROM:+0100
TZOFFSETTO:+0200
TZNAME:CEST
DTSTART:20240331T010000
END:DAYLIGHT
BEGIN:STANDARD
TZOFFSETFROM:+0200
TZOFFSETTO:+0100
TZNAME:CET
DTSTART:20241027T010000
END:STANDARD
BEGIN:DAYLIGHT
TZOFFSETFROM:+0100
TZOFFSETTO:+0200
TZNAME:CEST
DTSTART:20250330T010000
END:DAYLIGHT
BEGIN:STANDARD
TZOFFSETFROM:+0200
TZOFFSETTO:+0100
TZNAME:CET
DTSTART:20251026T010000
END:STANDARD
BEGIN:DAYLIGHT
TZOFFSETFROM:+0100
TZOFFSETTO:+0200
TZNAME:CEST
DTSTART:20260329T010000
END:DAYLIGHT
BEGIN:STANDARD
TZOFFSETFROM:+0200
TZOFFSETTO:+0100
TZNAME:CET
DTSTART:20261025T010000
END:STANDARD
END:VTIMEZONE
BEGIN:VEVENT
DTSTART;TZID=Europe/Paris:20250704T190000
DTEND;TZID=Europe/Paris:20250704T210000
DTSTAMP:20260423T191735
CREATED:20250530T121141Z
LAST-MODIFIED:20250530T192008Z
UID:58320-1751655600-1751662800@zupasljeme.hr
SUMMARY:Klanjanje na prvi petak u mjesecu – u tišini srca pred Gospodinom
DESCRIPTION:Pozivamo vas da nam se pridružite na euharistijskom klanjanju u kapelici Majke Božje Sljemenske\, Kraljice Hrvata\, svakog prvog petka u mjesecu od 19:00 do 21:00 sat. \n\n\n\nU ritmu užurbane svakodnevice\, ovaj trenutak tišine i sabranosti\, u srcu Parka prirode Medvednica\, pruža priliku da pred Presvetim predamo svoje brige\, zahvalnosti i molitve. \n\n\n\nPrvi petak posebno je posvećen Presvetom Srcu Isusovu\, koje nas neprestano poziva na obraćenje\, povjerenje i vjernost. Dođite i provedite vrijeme u osobnoj molitvi i klanjanju – u blizini Boga koji tiho dolazi\, ostaje i ljubi. \n\n\n\nKapelica će biti otvorena za sve koji žele stati\, zahvaliti\, predati i odmoriti svoju dušu u prisutnosti Gospodina. \n\n\n\nDobro došli!
URL:https://zupasljeme.hr/dogadanja/klanjanje-na-prvi-petak-u-mjesecu-u-tisini-srca-pred-gospodinom/
ATTACH;FMTTYPE=image/png:https://zupasljeme.hr/wp-content/uploads/2025/05/prvi-petak.png
END:VEVENT
BEGIN:VEVENT
DTSTART;TZID=Europe/Paris:20250705T000000
DTEND;TZID=Europe/Paris:20250705T235900
DTSTAMP:20260423T191735
CREATED:20250530T153912Z
LAST-MODIFIED:20250630T201417Z
UID:58346-1751673600-1751759940@zupasljeme.hr
SUMMARY:Prva subota na Sljemenu – dan molitve\, zahvalnosti i zajedništva
DESCRIPTION:Pozivamo vas da prvu subotu u mjesecu provedete na Sljemenu\, u duhovnom programu ispunjenom molitvom\, susretima i zahvalnošću – u kapelici Majke Božje Sljemenske\, Kraljice Hrvata\, smještenoj u srcu Parka prirode Medvednica. \n\n\n\nPrve subote u mjesecu u katoličkoj su tradiciji osobito posvećene Bezgrješnom Srcu Marijinu\, kao odgovor na Gospin poziv iz Fatime na molitvu\, obraćenje i zadovoljštinu za grijehe. To je dan kada posebno prinosimo molitve za mir\, obraćenja i nakane Blažene Djevice Marije\, te se okupljamo kao vjernička zajednica oko njezina Sina. \n\n\n\n\n\n\n\n\n\n\n\n\n\n🔸 Program u kapelici Majke Božje Sljemenske:\n\n\n\n🕙 10:00 – 12:00Vođene ture kapelicom – kroz kratku povijesnu i duhovnu šetnju\, upoznajte kapelicu\, reljef Gospe od Puta i život župe u planini. \n\n\n\n✝️ 12:30Redovita sveta misa \n\n\n\n🎶 18:30Pjevani časoslov – večernja molitva Crkve u zajedništvu s Gospom \n\n\n\n🕯️ 19:00Sveta misa za sve dobročinitelje i suradnike župe\, kao i za sve koji rade na Sljemenu (ugostitelji\, planinari\, djelatnici Parka prirode\, šumarije…).Nakon mise slijedi euharistijsko klanjanje u tišini. \n\n\n\nOva duhovna ponuda prve subote poziva nas da u ritmu prirode\, molitve i zajedništva produbimo odnos s Bogom i Marijom te da kroz susrete i zahvalnost obnovimo snagu za svakodnevni hod. \n\n\n\n \n\n\n\nDobro došli ste – bilo da ste prvi put ovdje ili ste već prijatelji Sljemena!
URL:https://zupasljeme.hr/dogadanja/prva-subota-na-sljemenu-dan-molitve-zahvalnosti-i-zajednistva/
ATTACH;FMTTYPE=image/png:https://zupasljeme.hr/wp-content/uploads/2025/05/prva-subota-4.7.png
END:VEVENT
BEGIN:VEVENT
DTSTART;TZID=Europe/Paris:20250717T193000
DTEND;TZID=Europe/Paris:20250719T210000
DTSTAMP:20260423T191735
CREATED:20250206T213559Z
LAST-MODIFIED:20250630T200922Z
UID:58156-1752780600-1752958800@zupasljeme.hr
SUMMARY:Trodnevnica uoči župnog proštenja
DESCRIPTION:Poziv na trodnevnu duhovnu pripravuUoči župnog proštenja Majke Božje Sljemenske\, Kraljice Hrvata\, pozivamo sve župljane\, hodočasnike i štovatelje Majke Božje na trodnevnicu\, koja će se održati od četvrtka 17. srpnja do subote 19. srpnja 2025. u našoj kapelici na Sljemenu. \n\n\n\n\n19:30 – molitva svete krunice i mogućnost za svetu ispovijed\n\n\n\n20:00 – sveta misa\n\n\n\n\nProgram trodnevnice svaki dan: \n\n\n\nNeka ovo vrijeme molitve i sabranosti bude naša duhovna priprava za proštenje i milosni susret s Gospodinom po zagovoru naše nebeske Majke.
URL:https://zupasljeme.hr/dogadanja/trodnevnica-zupno-prostenje/
ATTACH;FMTTYPE=image/jpeg:https://zupasljeme.hr/wp-content/uploads/2024/10/DSC_6692.jpg
END:VEVENT
BEGIN:VEVENT
DTSTART;TZID=Europe/Paris:20250720T080000
DTEND;TZID=Europe/Paris:20250720T170000
DTSTAMP:20260423T191735
CREATED:20250206T213511Z
LAST-MODIFIED:20250709T145218Z
UID:58154-1752998400-1753030800@zupasljeme.hr
SUMMARY:Proslava župnog proštenja
DESCRIPTION:Slavimo župno proštenje Majke Božje Sljemenske\, Kraljice Hrvata!U nedjelju\, 20. srpnja 2025.\, radosno ćemo proslaviti naše župno proštenje\, čuvajući sjećanje na prvo proštenje održano 16. srpnja 1933. godine\, kada je posvećena naša kapelica na Sljemenu. \n\n\n\nSvete mise slavit će se u: 9:00 (župni vikar pater Zdravko Knežević\, DI)\, 10:30 (pater Antun Volenik\, DI)\, 12:00 i 15:00 sati (župnik pater Tomislav Špiranec\, DI). Tijekom svih misa bit će prilika za svetu ispovijed. \n\n\n\nPozivamo vas da se zajedno okupimo u molitvi i zahvalnosti\, te da s pouzdanjem zazovemo zagovor Majke Božje Sljemenske\, Kraljice Hrvata. \n\n\n\nDobrodošli svi – hodočasnici\, planinari\, štovatelji i prijatelji Sljemena – na ovaj veliki dan milosti i zajedništva!
URL:https://zupasljeme.hr/dogadanja/proslava-zupnog-prostenja/
ATTACH;FMTTYPE=image/jpeg:https://zupasljeme.hr/wp-content/uploads/2024/10/procesija-u-nosnjama.jpeg
END:VEVENT
END:VCALENDAR