BEGIN:VCALENDAR
VERSION:2.0
PRODID:-//Župa Sljeme - ECPv6.15.20//NONSGML v1.0//EN
CALSCALE:GREGORIAN
METHOD:PUBLISH
X-WR-CALNAME:Župa Sljeme
X-ORIGINAL-URL:https://zupasljeme.hr
X-WR-CALDESC:Događaji za Župa Sljeme
REFRESH-INTERVAL;VALUE=DURATION:PT1H
X-Robots-Tag:noindex
X-PUBLISHED-TTL:PT1H
BEGIN:VTIMEZONE
TZID:Europe/Paris
BEGIN:DAYLIGHT
TZOFFSETFROM:+0100
TZOFFSETTO:+0200
TZNAME:CEST
DTSTART:20240331T010000
END:DAYLIGHT
BEGIN:STANDARD
TZOFFSETFROM:+0200
TZOFFSETTO:+0100
TZNAME:CET
DTSTART:20241027T010000
END:STANDARD
BEGIN:DAYLIGHT
TZOFFSETFROM:+0100
TZOFFSETTO:+0200
TZNAME:CEST
DTSTART:20250330T010000
END:DAYLIGHT
BEGIN:STANDARD
TZOFFSETFROM:+0200
TZOFFSETTO:+0100
TZNAME:CET
DTSTART:20251026T010000
END:STANDARD
BEGIN:DAYLIGHT
TZOFFSETFROM:+0100
TZOFFSETTO:+0200
TZNAME:CEST
DTSTART:20260329T010000
END:DAYLIGHT
BEGIN:STANDARD
TZOFFSETFROM:+0200
TZOFFSETTO:+0100
TZNAME:CET
DTSTART:20261025T010000
END:STANDARD
END:VTIMEZONE
BEGIN:VEVENT
DTSTART;TZID=Europe/Paris:20250801T190000
DTEND;TZID=Europe/Paris:20250801T210000
DTSTAMP:20260423T173710
CREATED:20250530T122453Z
LAST-MODIFIED:20250530T191939Z
UID:58324-1754074800-1754082000@zupasljeme.hr
SUMMARY:Klanjanje na prvi petak u mjesecu – u tišini srca pred Gospodinom
DESCRIPTION:Pozivamo vas da nam se pridružite na euharistijskom klanjanju u kapelici Majke Božje Sljemenske\, Kraljice Hrvata\, svakog prvog petka u mjesecu od 19:00 do 21:00 sat. \n\n\n\nU ritmu užurbane svakodnevice\, ovaj trenutak tišine i sabranosti\, u srcu Parka prirode Medvednica\, pruža priliku da pred Presvetim predamo svoje brige\, zahvalnosti i molitve. \n\n\n\nPrvi petak posebno je posvećen Presvetom Srcu Isusovu\, koje nas neprestano poziva na obraćenje\, povjerenje i vjernost. Dođite i provedite vrijeme u osobnoj molitvi i klanjanju – u blizini Boga koji tiho dolazi\, ostaje i ljubi. \n\n\n\nKapelica će biti otvorena za sve koji žele stati\, zahvaliti\, predati i odmoriti svoju dušu u prisutnosti Gospodina. \n\n\n\nDobro došli!
URL:https://zupasljeme.hr/dogadanja/prvi-petak-2/
ATTACH;FMTTYPE=image/png:https://zupasljeme.hr/wp-content/uploads/2025/05/prvi-petak.png
END:VEVENT
BEGIN:VEVENT
DTSTART;TZID=Europe/Paris:20250802T000000
DTEND;TZID=Europe/Paris:20250802T235900
DTSTAMP:20260423T173710
CREATED:20250530T185423Z
LAST-MODIFIED:20250530T191034Z
UID:58353-1754092800-1754179140@zupasljeme.hr
SUMMARY:Prva subota na Sljemenu – dan molitve\, zahvalnosti i zajedništva
DESCRIPTION:Pozivamo vas da prvu subotu u mjesecu provedete na Sljemenu\, u duhovnom programu ispunjenom molitvom\, susretima i zahvalnošću – u kapelici Majke Božje Sljemenske\, Kraljice Hrvata\, smještenoj u srcu Parka prirode Medvednica. \n\n\n\nPrve subote u mjesecu u katoličkoj su tradiciji osobito posvećene Bezgrješnom Srcu Marijinu\, kao odgovor na Gospin poziv iz Fatime na molitvu\, obraćenje i zadovoljštinu za grijehe. To je dan kada posebno prinosimo molitve za mir\, obraćenja i nakane Blažene Djevice Marije\, te se okupljamo kao vjernička zajednica oko njezina Sina. \n\n\n\n\n\n\n\n\n\n\n\n🔸 Program u kapelici Majke Božje Sljemenske: \n\n\n\n🕙 10:00 – 12:00Vođene ture kapelicom – kroz kratku povijesnu i duhovnu šetnju\, upoznajte kapelicu\, reljef Gospe od Puta i život župe u planini. \n\n\n\n✝️ 12:30Redovita sveta misa \n\n\n\n🎶 17:00Pjevani časoslov – večernja molitva Crkve u zajedništvu s Gospom \n\n\n\n🕯️ 17:30Sveta misa za sve dobročinitelje i suradnike župe\, kao i za sve koji rade na Sljemenu (ugostitelji\, planinari\, djelatnici Parka prirode\, šumarije…).Nakon mise slijedi euharistijsko klanjanje u tišini. \n\n\n\nOva duhovna ponuda prve subote poziva nas da u ritmu prirode\, molitve i zajedništva produbimo odnos s Bogom i Marijom te da kroz susrete i zahvalnost obnovimo snagu za svakodnevni hod. \n\n\n\n \n\n\n\nDobro došli ste – bilo da ste prvi put ovdje ili ste već prijatelji Sljemena!
URL:https://zupasljeme.hr/dogadanja/prva-subota-na-sljemenu-dan-molitve-zahvalnosti-i-zajednistva-2/
ATTACH;FMTTYPE=image/png:https://zupasljeme.hr/wp-content/uploads/2025/05/prv-subota-1.png
END:VEVENT
BEGIN:VEVENT
DTSTART;TZID=Europe/Paris:20250814T200000
DTEND;TZID=Europe/Paris:20250814T210000
DTSTAMP:20260423T173710
CREATED:20250725T172930Z
LAST-MODIFIED:20250806T130552Z
UID:58529-1755201600-1755205200@zupasljeme.hr
SUMMARY:Uočnica Velike Gospe
DESCRIPTION:Pozivamo sve vjernike\, hodočasnike i štovatelje Blažene Djevice Marije da se uoči svetkovine Uznesenja Marijina – Velike Gospe okupe u kapelici Majke Božje Sljemenske\, Kraljice Hrvata. \n\n\n\nU četvrtak\, 14. kolovoza u 20 sati\, slavit ćemo svečanu svetu misu\, nakon koje će uslijediti procesija sa svijećama u čast našoj nebeskoj Majci. \n\n\n\n🕯️ Svijeće će biti dostupne za kupnju ispred kapelice prije mise. \n\n\n\n \n\n\n\nDođimo zajedno u molitvi\, tišini šume i svjetlu svijeća kako bismo zahvalili\, preporučili se i slavili Mariju koja nas vodi k Isusu.
URL:https://zupasljeme.hr/dogadanja/uocnica-velike-gospe/
ATTACH;FMTTYPE=image/jpeg:https://zupasljeme.hr/wp-content/uploads/2024/10/vazmeno-bdijenje.jpeg
END:VEVENT
BEGIN:VEVENT
DTSTART;TZID=Europe/Paris:20250815T000000
DTEND;TZID=Europe/Paris:20250815T235959
DTSTAMP:20260423T173710
CREATED:20250725T173423Z
LAST-MODIFIED:20250725T173424Z
UID:58534-1755216000-1755302399@zupasljeme.hr
SUMMARY:Velika Gospa
DESCRIPTION:Pozivamo sve hodočasnike\, štovatelje Blažene Djevice Marije i vjernike iz cijele domovine da blagdan Uznesenja Marijina – Veliku Gospu proslave u molitvi i zajedništvu na Sljemenu. \n\n\n\n📅 Petak\, 15. kolovoza 2025.🕙 Svete mise:• u 10:00 sati• u 12:00 sati• u 15:00 sati \n\n\n\n✝️ Ispovijed će biti moguća za vrijeme svih misa. \n\n\n\n🍽️ Nakon svetih misa vjernici će se moći okrijepiti ispred župne kuće\, gdje će biti ponuđena hrana i piće. \n\n\n\nDođimo zahvaliti našoj nebeskoj Majci i zajedno slaviti Mariju – Kraljicu Hrvata\, koja nas zagovara i prati kroz povijest i svakodnevicu.
URL:https://zupasljeme.hr/dogadanja/velika-gospa/
ATTACH;FMTTYPE=image/jpeg:https://zupasljeme.hr/wp-content/uploads/2025/07/20230726_134538-e1741767335800-edited.jpg
END:VEVENT
END:VCALENDAR