BEGIN:VCALENDAR
VERSION:2.0
PRODID:-//Župa Sljeme - ECPv6.15.20//NONSGML v1.0//EN
CALSCALE:GREGORIAN
METHOD:PUBLISH
X-WR-CALNAME:Župa Sljeme
X-ORIGINAL-URL:https://zupasljeme.hr
X-WR-CALDESC:Događaji za Župa Sljeme
REFRESH-INTERVAL;VALUE=DURATION:PT1H
X-Robots-Tag:noindex
X-PUBLISHED-TTL:PT1H
BEGIN:VTIMEZONE
TZID:Europe/Paris
BEGIN:DAYLIGHT
TZOFFSETFROM:+0100
TZOFFSETTO:+0200
TZNAME:CEST
DTSTART:20240331T010000
END:DAYLIGHT
BEGIN:STANDARD
TZOFFSETFROM:+0200
TZOFFSETTO:+0100
TZNAME:CET
DTSTART:20241027T010000
END:STANDARD
BEGIN:DAYLIGHT
TZOFFSETFROM:+0100
TZOFFSETTO:+0200
TZNAME:CEST
DTSTART:20250330T010000
END:DAYLIGHT
BEGIN:STANDARD
TZOFFSETFROM:+0200
TZOFFSETTO:+0100
TZNAME:CET
DTSTART:20251026T010000
END:STANDARD
BEGIN:DAYLIGHT
TZOFFSETFROM:+0100
TZOFFSETTO:+0200
TZNAME:CEST
DTSTART:20260329T010000
END:DAYLIGHT
BEGIN:STANDARD
TZOFFSETFROM:+0200
TZOFFSETTO:+0100
TZNAME:CET
DTSTART:20261025T010000
END:STANDARD
END:VTIMEZONE
BEGIN:VEVENT
DTSTART;TZID=Europe/Paris:20251101T000000
DTEND;TZID=Europe/Paris:20251101T235900
DTSTAMP:20260423T124426
CREATED:20250530T190329Z
LAST-MODIFIED:20251101T111546Z
UID:58361-1761955200-1762041540@zupasljeme.hr
SUMMARY:Prva subota na Sljemenu – dan molitve\, zahvalnosti i zajedništva
DESCRIPTION:Pozivamo vas da prvu subotu u mjesecu provedete na Sljemenu\, u duhovnom programu ispunjenom molitvom\, susretima i zahvalnošću – u kapelici Majke Božje Sljemenske\, Kraljice Hrvata\, smještenoj u srcu Parka prirode Medvednica. \n\n\n\nPrve subote u mjesecu u katoličkoj su tradiciji osobito posvećene Bezgrješnom Srcu Marijinu\, kao odgovor na Gospin poziv iz Fatime na molitvu\, obraćenje i zadovoljštinu za grijehe. To je dan kada posebno prinosimo molitve za mir\, obraćenja i nakane Blažene Djevice Marije\, te se okupljamo kao vjernička zajednica oko njezina Sina. \n\n\n\n\n\n\n\n\n\n\n\n🔸 Program u kapelici Majke Božje Sljemenske:\n\n\n\n🕙 10:00 – 12:00Vođene ture kapelicom – kroz kratku povijesnu i duhovnu šetnju\, upoznajte kapelicu\, reljef Gospe od Puta i život župe u planini. \n\n\n\n✝️ 12:30Redovita sveta misa \n\n\n\n🎶 16:30Pjevani časoslov – večernja molitva Crkve u zajedništvu s Gospom \n\n\n\n🕯️ 17:00Sveta misa za sve dobročinitelje i suradnike župe\, kao i za sve koji rade na Sljemenu (ugostitelji\, planinari\, djelatnici Parka prirode\, šumarije…).Nakon mise slijedi euharistijsko klanjanje u tišini. \n\n\n\nOva duhovna ponuda prve subote poziva nas da u ritmu prirode\, molitve i zajedništva produbimo odnos s Bogom i Marijom te da kroz susrete i zahvalnost obnovimo snagu za svakodnevni hod. \n\n\n\n \n\n\n\nDobro došli ste – bilo da ste prvi put ovdje ili ste već prijatelji Sljemena!
URL:https://zupasljeme.hr/dogadanja/prva-subota-na-sljemenu-dan-molitve-zahvalnosti-i-zajednistva-4/
ATTACH;FMTTYPE=image/png:https://zupasljeme.hr/wp-content/uploads/2025/05/3.5.-1.png
END:VEVENT
BEGIN:VEVENT
DTSTART;TZID=Europe/Paris:20251107T190000
DTEND;TZID=Europe/Paris:20251107T210000
DTSTAMP:20260423T124426
CREATED:20250530T142138Z
LAST-MODIFIED:20250530T191803Z
UID:58342-1762542000-1762549200@zupasljeme.hr
SUMMARY:Klanjanje na prvi petak u mjesecu – u tišini srca pred Gospodinom
DESCRIPTION:Pozivamo vas da nam se pridružite na euharistijskom klanjanju u kapelici Majke Božje Sljemenske\, Kraljice Hrvata\, svakog prvog petka u mjesecu od 19:00 do 21:00 sat. \n\n\n\nU ritmu užurbane svakodnevice\, ovaj trenutak tišine i sabranosti\, u srcu Parka prirode Medvednica\, pruža priliku da pred Presvetim predamo svoje brige\, zahvalnosti i molitve. \n\n\n\nPrvi petak posebno je posvećen Presvetom Srcu Isusovu\, koje nas neprestano poziva na obraćenje\, povjerenje i vjernost. Dođite i provedite vrijeme u osobnoj molitvi i klanjanju – u blizini Boga koji tiho dolazi\, ostaje i ljubi. \n\n\n\nKapelica će biti otvorena za sve koji žele stati\, zahvaliti\, predati i odmoriti svoju dušu u prisutnosti Gospodina. \n\n\n\nDobro došli!
URL:https://zupasljeme.hr/dogadanja/klanjanje-na-prvi-petak-u-mjesecu-u-tisini-srca-pred-gospodinom-4/
ATTACH;FMTTYPE=image/png:https://zupasljeme.hr/wp-content/uploads/2025/05/prvi-petak.png
END:VEVENT
BEGIN:VEVENT
DTSTART;TZID=Europe/Paris:20251129T160000
DTEND;TZID=Europe/Paris:20251129T163000
DTSTAMP:20260423T124426
CREATED:20251126T135331Z
LAST-MODIFIED:20251126T135730Z
UID:58643-1764432000-1764433800@zupasljeme.hr
SUMMARY:Pjevani Časoslov uoči Prve nedjelje Došašća
DESCRIPTION:Pozivamo vas na zajedničku molitvu pjevanog časoslova u subotu\, 29. studenoga u 16:00 sati\, uoči Prve nedjelje Došašća. Na početku liturgijske godine okupit ćemo se u kapelici Majke Božje Sljemenske\, Kraljice Hrvata\, kako bismo u molitvi\, pjesmi i sabranosti otvorili vrijeme iščekivanja Gospodinova dolaska. \n\n\n\nDošašće je vrijeme budnosti i nade – vrijeme u kojem Crkva poziva na pripravu srca i obnovu duhovnog života. Stoga vas pozivamo da zajedno započnemo ovo sveto vrijeme molitvom časoslova\, službenom molitvom Crkve koja nas uvodi u ritam liturgije i zajedništva. \n\n\n\nDobro došli!Neka nas Gospodin vodi kroz dane Došašća i daruje nam mir\, radost i nadu.
URL:https://zupasljeme.hr/dogadanja/pjevani-casoslov-uoci-prve-nedjelje-dosasca/
ATTACH;FMTTYPE=image/jpeg:https://zupasljeme.hr/wp-content/uploads/2025/01/20241130_160422-edited-scaled.jpg
END:VEVENT
BEGIN:VEVENT
DTSTART;TZID=Europe/Paris:20251130T130000
DTEND;TZID=Europe/Paris:20251130T133000
DTSTAMP:20260423T124426
CREATED:20251126T141049Z
LAST-MODIFIED:20251126T141111Z
UID:58647-1764507600-1764509400@zupasljeme.hr
SUMMARY:Adventski koncert dječjeg zbora “Samoborski krijes”
DESCRIPTION:U nedjelju\, 30. studenoga\, u 13:00 sati u našoj kapelici Majke Božje Sljemenske\, Kraljice Hrvata\, održat će se adventski koncert dječjeg zbora “Samoborski krijes” iz Samobora. \n\n\n\nNa početku došašća\, u ozračju radosti i dragocjene dječje spontanosti\, poslušat ćemo adventske i božićne pjesme koje nas uvode u vrijeme pripreme i iščekivanja Gospodinova rođenja. \n\n\n\nKoncert će biti prigoda za zajedništvo\, zahvalnost i duhovnu radost kojom započinjemo ovo posebno liturgijsko razdoblje. Pozivamo sve vjernike\, hodočasnike i posjetitelje Sljemena da nam se pridruže i podrže naše najmlađe glazbenike koji nam svojim glasovima donose svjetlo Adventa. \n\n\n\nDobro došli!Radujemo se vašem dolasku!
URL:https://zupasljeme.hr/dogadanja/adventski-koncert-djecjeg-zbora-samoborski-krijes/
ATTACH;FMTTYPE=image/jpeg:https://zupasljeme.hr/wp-content/uploads/2025/11/zbor-palma-scaled.jpg
END:VEVENT
END:VCALENDAR