BEGIN:VCALENDAR
VERSION:2.0
PRODID:-//Župa Sljeme - ECPv6.15.20//NONSGML v1.0//EN
CALSCALE:GREGORIAN
METHOD:PUBLISH
X-WR-CALNAME:Župa Sljeme
X-ORIGINAL-URL:https://zupasljeme.hr
X-WR-CALDESC:Događaji za Župa Sljeme
REFRESH-INTERVAL;VALUE=DURATION:PT1H
X-Robots-Tag:noindex
X-PUBLISHED-TTL:PT1H
BEGIN:VTIMEZONE
TZID:Europe/Paris
BEGIN:DAYLIGHT
TZOFFSETFROM:+0100
TZOFFSETTO:+0200
TZNAME:CEST
DTSTART:20240331T010000
END:DAYLIGHT
BEGIN:STANDARD
TZOFFSETFROM:+0200
TZOFFSETTO:+0100
TZNAME:CET
DTSTART:20241027T010000
END:STANDARD
BEGIN:DAYLIGHT
TZOFFSETFROM:+0100
TZOFFSETTO:+0200
TZNAME:CEST
DTSTART:20250330T010000
END:DAYLIGHT
BEGIN:STANDARD
TZOFFSETFROM:+0200
TZOFFSETTO:+0100
TZNAME:CET
DTSTART:20251026T010000
END:STANDARD
BEGIN:DAYLIGHT
TZOFFSETFROM:+0100
TZOFFSETTO:+0200
TZNAME:CEST
DTSTART:20260329T010000
END:DAYLIGHT
BEGIN:STANDARD
TZOFFSETFROM:+0200
TZOFFSETTO:+0100
TZNAME:CET
DTSTART:20261025T010000
END:STANDARD
END:VTIMEZONE
BEGIN:VEVENT
DTSTART;TZID=Europe/Paris:20251205T190000
DTEND;TZID=Europe/Paris:20251205T210000
DTSTAMP:20260423T102544
CREATED:20250530T142307Z
LAST-MODIFIED:20250530T191724Z
UID:58344-1764961200-1764968400@zupasljeme.hr
SUMMARY:Klanjanje na prvi petak u mjesecu – u tišini srca pred Gospodinom
DESCRIPTION:Pozivamo vas da nam se pridružite na euharistijskom klanjanju u kapelici Majke Božje Sljemenske\, Kraljice Hrvata\, svakog prvog petka u mjesecu od 19:00 do 21:00 sat. \n\n\n\nU ritmu užurbane svakodnevice\, ovaj trenutak tišine i sabranosti\, u srcu Parka prirode Medvednica\, pruža priliku da pred Presvetim predamo svoje brige\, zahvalnosti i molitve. \n\n\n\nPrvi petak posebno je posvećen Presvetom Srcu Isusovu\, koje nas neprestano poziva na obraćenje\, povjerenje i vjernost. Dođite i provedite vrijeme u osobnoj molitvi i klanjanju – u blizini Boga koji tiho dolazi\, ostaje i ljubi. \n\n\n\nKapelica će biti otvorena za sve koji žele stati\, zahvaliti\, predati i odmoriti svoju dušu u prisutnosti Gospodina. \n\n\n\nDobro došli!
URL:https://zupasljeme.hr/dogadanja/klanjanje-na-prvi-petak-u-mjesecu-u-tisini-srca-pred-gospodinom-5/
ATTACH;FMTTYPE=image/png:https://zupasljeme.hr/wp-content/uploads/2025/05/prvi-petak.png
END:VEVENT
BEGIN:VEVENT
DTSTART;TZID=Europe/Paris:20251206T000000
DTEND;TZID=Europe/Paris:20251206T235900
DTSTAMP:20260423T102544
CREATED:20250530T190523Z
LAST-MODIFIED:20251126T141355Z
UID:58363-1764979200-1765065540@zupasljeme.hr
SUMMARY:Prva subota na Sljemenu – dan molitve\, zahvalnosti i zajedništva
DESCRIPTION:Pozivamo vas da prvu subotu u mjesecu provedete na Sljemenu\, u duhovnom programu ispunjenom molitvom\, susretima i zahvalnošću – u kapelici Majke Božje Sljemenske\, Kraljice Hrvata\, smještenoj u srcu Parka prirode Medvednica. \n\n\n\nPrve subote u mjesecu u katoličkoj su tradiciji osobito posvećene Bezgrješnom Srcu Marijinu\, kao odgovor na Gospin poziv iz Fatime na molitvu\, obraćenje i zadovoljštinu za grijehe. To je dan kada posebno prinosimo molitve za mir\, obraćenja i nakane Blažene Djevice Marije\, te se okupljamo kao vjernička zajednica oko njezina Sina. \n\n\n\n\n\n\n\n\n\n\n\n🔸 Program u kapelici Majke Božje Sljemenske:\n\n\n\n🕙 10:00 – 12:00Vođene ture kapelicom – kroz kratku povijesnu i duhovnu šetnju\, upoznajte kapelicu\, reljef Gospe od Puta i život župe u planini. \n\n\n\n✝️ 12:30Redovita sveta misa \n\n\n\n🎶 16:00Pjevani časoslov – večernja molitva Crkve u zajedništvu s Gospom \n\n\n\n🕯️ 16:30Sveta misa za sve dobročinitelje i suradnike župe\, kao i za sve koji rade na Medvednici.Nakon mise slijedi euharistijsko klanjanje u tišini. \n\n\n\nOva duhovna ponuda prve subote poziva nas da u ritmu prirode\, molitve i zajedništva produbimo odnos s Bogom i Marijom te da kroz susrete i zahvalnost obnovimo snagu za svakodnevni hod. \n\n\n\nDobro došli ste – bilo da ste prvi put ovdje ili ste već prijatelji Sljemena!
URL:https://zupasljeme.hr/dogadanja/prva-subota-na-sljemenu-dan-molitve-zahvalnosti-i-zajednistva-5/
ATTACH;FMTTYPE=image/jpeg:https://zupasljeme.hr/wp-content/uploads/2024/10/DSC_7556-Enhanced-NR.jpg
END:VEVENT
BEGIN:VEVENT
DTSTART;TZID=Europe/Paris:20251207T120000
DTEND;TZID=Europe/Paris:20251207T130000
DTSTAMP:20260423T102544
CREATED:20251126T141905Z
LAST-MODIFIED:20251126T141955Z
UID:58655-1765108800-1765112400@zupasljeme.hr
SUMMARY:Druga nedjelja Došašća kod Šumarskih jaslica
DESCRIPTION:Pozivamo vas da s nama proslavite drugu nedjelju došašća u jedinstvenom ozračju Šumarskih jaslica na Sljemenu (livada kod Stare Lugarnice). \n\n\n\nSvečano misno slavlje kod Šumarskih jaslica u 12:00 sati glazbeno će animirati: KUD “Okićka Trešnja” i HSPD “Antun Radić” iz Okića \n\n\n\nTijekom mise bit će mogućnost svete ispovijedi\, a u sklopu slavlja održat će se i blagoslov Šumarskih jaslica te blagoslov i paljenje druge adventske svijeće. \n\n\n\n \n\n\n\nDruženje poslije mise\n\n\n\nNakon misnog slavlja\, u zajedništvu i radosti adventskog vremena\, Hrvatske šume i sljemenski ugostitelji pripremit će hranu i piće za sve posjetitelje. \n\n\n\n \n\n\n\nOstale mise na drugu nedjelju došašća\n\n\n\nSvete mise u 10:00 i 15:00 sati održavaju se redovito u kapelici Majke Božje Sljemenske\, Kraljice Hrvata\, uz mogućnost svete ispovijedi.
URL:https://zupasljeme.hr/dogadanja/druga-nedjelja-dosasca-kod-sumarskih-jaslica/
ATTACH;FMTTYPE=image/jpeg:https://zupasljeme.hr/wp-content/uploads/2024/10/jaslice.jpeg
END:VEVENT
BEGIN:VEVENT
DTSTART;TZID=Europe/Paris:20251213T160000
DTEND;TZID=Europe/Paris:20251213T163000
DTSTAMP:20260423T102544
CREATED:20251126T142318Z
LAST-MODIFIED:20251126T142319Z
UID:58660-1765641600-1765643400@zupasljeme.hr
SUMMARY:Pjevani časoslov uoči treće nedjelje došašća
DESCRIPTION:Pozivamo vas na molitvu pjevanog časoslova u subotu\, 13. prosinca u 16:00 sati. U vremenu Došašća\, kada Crkva poziva na budnost\, sabranost i duhovnu pripravu\, okupit ćemo se u našoj kapelici kako bismo molitvom i pjesmom produbili radost iščekivanja Kristova dolaska. \n\n\n\nČasoslov je službena molitva Crkve koja nas povezuje u zajedništvu i uvodi u ritam liturgijske godine. Neka nam ovo okupljanje bude trenutak mira i duhovne snage u adventskom vremenu. \n\n\n\nDobro došli!
URL:https://zupasljeme.hr/dogadanja/pjevani-casoslov-uoci-trece-nedjelje-dosasca/
ATTACH;FMTTYPE=image/jpeg:https://zupasljeme.hr/wp-content/uploads/2024/12/468291510_879213131054166_4473929926652596923_n.jpg
END:VEVENT
BEGIN:VEVENT
DTSTART;TZID=Europe/Paris:20251214T130000
DTEND;TZID=Europe/Paris:20251214T133000
DTSTAMP:20260423T102545
CREATED:20251126T142844Z
LAST-MODIFIED:20251126T153234Z
UID:58664-1765717200-1765719000@zupasljeme.hr
SUMMARY:Adventski koncert – Zbor Janjevaca
DESCRIPTION:Pozivamo vas na adventski koncert Zbora Janjevaca\, koji će se održati u nedjelju 14. prosinca u 13:00 sati u našoj kapelici. U ozračju treće nedjelje Došašća\, glazba će nas uvesti u radost i iščekivanje dolaska Gospodina. \n\n\n\nNakon koncerta\, kod Hotela Tomislavov dom uslijedit će blagoslov i paljenje treće adventske svijeće. \n\n\n\nDobro došli!
URL:https://zupasljeme.hr/dogadanja/adventski-koncert-zbor-janjevaca/
ATTACH;FMTTYPE=image/jpeg:https://zupasljeme.hr/wp-content/uploads/2025/11/zbor-janjevaca-scaled.jpg
END:VEVENT
BEGIN:VEVENT
DTSTART;TZID=Europe/Paris:20251220T160000
DTEND;TZID=Europe/Paris:20251220T163000
DTSTAMP:20260423T102545
CREATED:20251126T153601Z
LAST-MODIFIED:20251214T185405Z
UID:58694-1766246400-1766248200@zupasljeme.hr
SUMMARY:Pjevani časoslov uoči četvrte nedjelje došašća
DESCRIPTION:Pozivamo vas da u subotu\, 20. prosinca\, zajedno proslavimo Uočnicu četvrte nedjelje Došašća u kapelici. \n\n\n\nRaspored:12:30 – Sveta misa16:00 – Pjevani časoslov \n\n\n\nČetvrta nedjelja Došašća u liturgiji nas uvodi u neposrednu pripravu za Kristovo rođenje\, stavljajući pred nas lik Blažene Djevice Marije i otajstvo utjelovljenja. U ovom završnom adventskom koraku Crkva nas poziva na tišinu\, sabranost i pouzdanje u Božja obećanja. \n\n\n\nSveta misa i pjevani časoslov pomažu nam da u molitvi produbimo iščekivanje Božića te da otvorena srca dočekamo dolazak Spasitelja. \n\n\n\nPjevani časoslov kao službena molitva Crkve povezuje nas s cijelom Crkvom i ritmom liturgijske godine\, a u ovom svetom vremenu Došašća osobito nas usmjerava prema otajstvu Božje blizine. \n\n\n\nDobro došli na molitvu i zajedničko slavlje!
URL:https://zupasljeme.hr/dogadanja/pjevani-casoslov-uoci-trece-nedjelje-dosasca-2/
ATTACH;FMTTYPE=image/jpeg:https://zupasljeme.hr/wp-content/uploads/2024/04/8_9365_Zupa-Sljeme-1-scaled.jpg
END:VEVENT
BEGIN:VEVENT
DTSTART;TZID=Europe/Paris:20251221T110000
DTEND;TZID=Europe/Paris:20251221T170000
DTSTAMP:20260423T102545
CREATED:20251126T212739Z
LAST-MODIFIED:20251214T185651Z
UID:58696-1766314800-1766336400@zupasljeme.hr
SUMMARY:Zajedničko ukrašavanje božićnog bora na Sljemenu
DESCRIPTION:Pozivamo vas na posebno adventsko okupljanje ispred naše kapelice: zajedničko ukrašavanje velikog božićnog bora. Zahvaljujući Hrvatskim šumama\, i ove je godine pred kapelicom će biti postavljen središnji bor adventa na Sljemenu – znak života\, nade i trajnosti. \n\n\n\nŽelimo ga ukrasiti svi zajedno\, kao župna i planinska obitelj. Pozivamo vas\, vjernike\, planinare\, hodočasnike\, prijatelje i posebno obitelji s djecom\, da dođete i donesete svoje ukrase: kuglice\, lampice\, simbolične znakove\, rukom rađene ukrase\, male poruke mira i dobra. Svaki je ukras dar srca i pokazuje da se u božićno vrijeme nitko ne slavi sam\, nego u zajedništvu. \n\n\n\nBor u božićnom vremenu\n\n\n\nBožićno drvce u kršćanskoj je tradiciji znak života koji dolazi s Kristom – zimzeleno drvo koje ostaje živo i zeleno usred zime podsjeća na to da Božja ljubav nikada ne vene. Božićni bor stoji kao simbol nade\, svjetla i novog početka. Kada ga ukrašavamo\, unosimo u njega svoj trud\, svoje darove\, svoju priču i svoju vjeru. Svaki ukras je molitva i znak radosti Božića. \n\n\n\nZato vas pozivamo da svojom prisutnošću i svojim ukrasom budete dio ovoga bora i dio zajedništva koje gradimo na Sljemenu. Neka to bude drvo koje govori o našoj vjeri\, zahvalnosti i ljubavi. \n\n\n\nDođite\, donesite ukrase svoje obitelji i svoje radosti\, i pridružite nam se u stvaranju ljepote koja će ostati kao znak Božića pred našom kapelicom tijekom cijelog vremena otajstva Kristova rođenja. \n\n\n\nRadujemo se zajedništvu\, susretu i veselju!
URL:https://zupasljeme.hr/dogadanja/zajednicko-ukrasavanje-bozicnog-bora-na-sljemenu/
ATTACH;FMTTYPE=image/jpeg:https://zupasljeme.hr/wp-content/uploads/2025/11/borovi.jpg
END:VEVENT
BEGIN:VEVENT
DTSTART;TZID=Europe/Paris:20251224T000000
DTEND;TZID=Europe/Paris:20251224T020000
DTSTAMP:20260423T102545
CREATED:20251126T151004Z
LAST-MODIFIED:20251126T151416Z
UID:58671-1766534400-1766541600@zupasljeme.hr
SUMMARY:Badnjak na Sljemenu – Polnoćka i procesija
DESCRIPTION:Pozivamo vas da zajedno proslavimo svetu noć Gospodinova rođenja u kapelici Majke Božje Sljemenske\, Kraljice Hrvata. \n\n\n\nPolnoćka – u 00:00 sati\n\n\n\nNa Badnju večer Crkva ulazi u najsvetije vrijeme godine. Polnoćka je prva i svečana božićna misa\, slavlje otajstva u kojem Bog postaje jedan od nas i dolazi kao Dijete\, u tišini i poniznosti. To je noć u kojoj je\, prema davnoj kršćanskoj tradiciji\, „svjetlo zasjalo u tami“\, noć mira\, radosti i nade. \n\n\n\nStari crkveni tekstovi nazivaju Badnju noć noć budnosti i čuđenja\, jer vjernici bdiju čekajući Gospodina. Zato se polnoćka slavi upravo u ponoć – u trenutku kada se rađa novi dan i započinje Božić. Misa Polnoćka poziv je da otvorimo svoje srce otajstvu Božje blizine. \n\n\n\n\n\n\n\n\n\n\n\n\n\n\n\n\n\nProcesija do Šumarskih jaslica\n\n\n\nNakon Polnoćke uputit ćemo se u procesiji do Šumarskih jaslica\, gdje ćemo svečano položiti Dijete Isusa u jasle. Ovaj čin nije samo lijepi običaj\, nego znak naše vjere: Bog dolazi k nama i želi prebivati među nama. \n\n\n\nPozivamo vjernike\, hodočasnike i sve dobre ljude da zajedno zahvalimo Bogu za dar spasenja\, da molimo za mir i radost u našim obiteljima\, domovini i svijetu. \n\n\n\nDočekajmo Krista zajedno!Dobro došli!
URL:https://zupasljeme.hr/dogadanja/badnjak-na-sljemenu-polnocka-i-procesija/
ATTACH;FMTTYPE=image/jpeg:https://zupasljeme.hr/wp-content/uploads/2025/11/bozic-scaled.jpg
END:VEVENT
BEGIN:VEVENT
DTSTART;TZID=Europe/Paris:20251228T130000
DTEND;TZID=Europe/Paris:20251228T133000
DTSTAMP:20260423T102545
CREATED:20251126T151724Z
LAST-MODIFIED:20251126T151725Z
UID:58679-1766926800-1766928600@zupasljeme.hr
SUMMARY:Božićni koncert – MPZ “Bistranji”
DESCRIPTION:Pozivamo vas na Božićni koncert mješovitog pjevačkog zbora “Bistranji”\, koji će se održati u nedjelju 28. prosinca u 13:00 sati u našoj kapelici. \n\n\n\nU božićnom ozračju i radosti Kristova rođenja\, zbor će izvesti tradicionalne i duhovne skladbe kojima želimo nastaviti slavlje Božića i zahvalnost za dar Božje blizine. \n\n\n\nDobro došli!Radujemo se vašem dolasku!
URL:https://zupasljeme.hr/dogadanja/bozicni-koncert-mpz-bistranji/
ATTACH;FMTTYPE=image/jpeg:https://zupasljeme.hr/wp-content/uploads/2025/11/kvartet-Stubaki-scaled.jpg
END:VEVENT
END:VCALENDAR